BEGIN:VCALENDAR
VERSION:2.0
PRODID:-//ChamberMaster//Event Calendar 2.0//EN
METHOD:PUBLISH
X-PUBLISHED-TTL:P3D
REFRESH-INTERVAL:P3D
CALSCALE:GREGORIAN
BEGIN:VEVENT
DTSTART;VALUE=DATE:20260418
DTEND;VALUE=DATE:20260419
TRANSP:TRANSPARENT
X-MICROSOFT-CDO-ALLDAYEVENT:TRUE
SUMMARY:44th Neosho Dogwood Run
DESCRIPTION:Don't forget to sign up for this year's Dogwood 5K - April 18th at Big Spring Park\n\n\n\nThis is the 44th year of this historic race and we're so pleased to be partnering with The Joplin Roadrunners.\n\n\n\nIf you're interested in volunteering\, please message us so we can get your assigned task to you.\n\n\n\nShare this event with all your friends\, runners and walkers alike!\n\n\n\nhttps://www.facebook.com/share/p/1CpESuV8DE/
X-ALT-DESC;FMTTYPE=text/html:<div background-color:="" class="xdj266r x14z9mp xat24cr x1lziwak x1vvkbs x126k92a" color:="" font-size:="" segoe="" style="white-space-collapse: preserve\; margin-inline: 0px\; overflow-wrap: break-word\; margin-bottom: 0px\; margin-top: 0px\; font-family: " ui="">\n<div dir="auto" style="font-family: inherit\;">Don&#39\;t forget to sign up for this year&#39\;s Dogwood 5K - April 18th at Big Spring Park</div>\n</div>\n\n<div background-color:="" class="x14z9mp xat24cr x1lziwak x1vvkbs xtlvy1s x126k92a" color:="" font-size:="" segoe="" style="white-space-collapse: preserve\; margin-inline: 0px\; overflow-wrap: break-word\; margin-bottom: 0px\; margin-top: 0.5em\; font-family: " ui="">\n<div dir="auto" style="font-family: inherit\;">This is the 44th year of this historic race and we&#39\;re so pleased to be partnering with The Joplin Roadrunners.</div>\n</div>\n\n<div background-color:="" class="x14z9mp xat24cr x1lziwak x1vvkbs xtlvy1s x126k92a" color:="" font-size:="" segoe="" style="white-space-collapse: preserve\; margin-inline: 0px\; overflow-wrap: break-word\; margin-bottom: 0px\; margin-top: 0.5em\; font-family: " ui="">\n<div dir="auto" style="font-family: inherit\;">If you&#39\;re interested in volunteering\, please message us so we can get your assigned task to you.</div>\n</div>\n\n<div background-color:="" class="x14z9mp xat24cr x1lziwak x1vvkbs xtlvy1s x126k92a" color:="" font-size:="" segoe="" style="white-space-collapse: preserve\; margin-inline: 0px\; overflow-wrap: break-word\; margin-bottom: 0px\; margin-top: 0.5em\; font-family: " ui="">\n<div dir="auto" style="font-family: inherit\;">Share this event with all your friends\, runners and walkers alike!</div>\n</div>\n\n<div background-color:="" class="x14z9mp xat24cr x1lziwak x1vvkbs xtlvy1s x126k92a" color:="" font-size:="" segoe="" style="white-space-collapse: preserve\; margin-inline: 0px\; overflow-wrap: break-word\; margin-bottom: 0px\; margin-top: 0.5em\; font-family: " ui="">\n<div dir="auto" style="font-family: inherit\;"><span class="html-span xdj266r x14z9mp xat24cr x1lziwak xexx8yu xyri2b x18d9i69 x1c1uobl x1hl2dhg x16tdsg8 x1vvkbs" style="margin-inline: 0px\; text-align: inherit\; padding-inline: 0px\; overflow-wrap: break-word\; padding-bottom: 0px\; margin-bottom: 0px\; margin-top: 0px\; padding-top: 0px\; font-family: inherit\;"><a attributionsrc="/privacy_sandbox/comet/register/source/?xt=AZZERkncFvjMvB045MIwB2-mkOPTdxXrWzY_tHtKjI8aXVYOPC43wrlNmxgNa6-r5WJPgHP444M0Eha0aimFY-n-4Yq-1f-OqGnXY2sHiLETCKFRBwck39mNWQDFV_y30y6tW7-J33GEoRs75uZqvjw-PaXV0lANZCGx1-YIx2gQDGDsaIjHvel-6BVTGR_T8IF7XtP-TfYXt86Wm-Srpw2pUXSjakgrKmS2plq2vFOG9SU8TmRDo-2QPzdxHzHfDm0WGflZtLNk2AHkrBMvR4kVBxObAqVhOG89WK31DjWbrOc68BaQ5buxX_-pstljQRHnn3_XV4rrbOXVMyoVfVqdV5dCUKvfATT8DNwlGnDqGlBlHxSFwlEqzX9yDBULrAXLZB6UD4y4Ai9OEg37_twXmRf1p-L2J4Tvhw2gBLx_6L8WH-KpcqEx_3E5jw-8ZHfhkyP0EftnY8Pk_3M5ECo9XqnYOjYXeiCPruI6LTCnBqOui01oN1AnTxpqZXky-yAa_f3ygkSrbqAoj93Hv3Qg1DeRKR-3cWh6Be3TIaVW0Vwxy8RKt9r3PrgD5mNaFv5Vtl_P2spmWejfvMM_Oir3ALGiEHxvWnsqu0DfIS_kKsu2CAoDIYYeht0xbs4cgHjOUKxc0XvNcKc4JGWitQkFRivEh5fvi8eraw0I9rglPqWpqI2k9xZiX_R_Ru2_DMv94EbSECTgUihGqinyCdOtq_cMGItnSctRAN8OzEx_euumbdbgoiiRJ5lcDiopNZcPLo7i7Q1JETY_bzVN_HAsFVlFN3FglMgKsH-5BXhtO6Qolfn6ehH5csDw8uQBiqpiYYWeA8liYu0dFhz7Bn13tCagTH1Uo3wTAWRBd6xXzsNXWLL1He8KMJGT--Z26GB3mQbmBrYLHcjru9H658iklpxMYbHZqgWiH2T4wMb33hiT4FA_0PDwIbDyyoc0tKEB5V5hfBuZS6gMoyUDJ5kzVe7VRDuOnn3M8rAhxc2vfpd1pWhLspsa8SPD6bfTnfDczinY3n6VsJVuncT5IApo12VXtz4F3MpGtpSldvc_kF38HOaJ7uu4j4m1jRBdDSMRoyI3WXKbBYRF9fqR5Mjmk7pbVfbaZwcuBK5ob1p36ABEEFekeX-uxEh3N17NI5ZnnST7QdQlwdxJDjxRytSEhMzxkH0HLi17Sl0w2FQRLylr7aAx4shxGtjUioeQ1I6gPg1jGFXCLH1u6p5NejdtDmeo0B7XPIHaCxDSN9VqT6EV1FyFkaPcotJd6VSvEIpmMpwCVZUk-P9PiQHmygaqJlBcGsfIi2GPzlI-XC-q8qyN8up4El5EtgaewO48DMHBdV4JFAALai4Xer3qtMsXsfvGuzxLiGWZRFd2-Er0z4Ru81caHtxpdN9e0hsv7VV4nsj99_jqLx56-oCe9elQIKcHzqJH0unaU3Fd9WgEJg" class="x1i10hfl xjbqb8w x1ejq31n x18oe1m7 x1sy0etr xstzfhl x972fbf x10w94by x1qhh985 x14e42zd x9f619 x1ypdohk xt0psk2 x3ct3a4 xdj266r x14z9mp xat24cr x1lziwak xexx8yu xyri2b x18d9i69 x1c1uobl x16tdsg8 x1hl2dhg xggy1nq x1a2a7pz xkrqix3 x1sur9pj xzsf02u x1s688f" href="https://www.facebook.com/joplinroadrunners/posts/pfbid08VXT9KzKYiDG7g5Zg6DoSnASuEv4qxd5mciiqnZttVa6v6bSN17C2kdeoq4SFL47l?__cft__[0]=AZY9tfmeSrlOge59nWCsOUvFxh2WlhqdLQPyujwhmFcvn56dpYHhC2xxbBiwOVNMPJRrTQEaU27Nkc25sq9fJGnzu9_9cfMTSX410sHQj-5VQvymrtR_bqPocW7LU0FX8dsU_2Fepjh2voKfffzVYW8BKv-PLgst5gVtDpzwh6RjPgpuE5dklWLXKh5KK4hRlrY&amp\;__tn__=-UK-R" role="link" style="color: rgb(226\, 229\, 233)\; cursor: pointer\; text-decoration-line: none\; outline: none\; border-inline-width: 0px\; margin-inline: 0px\; text-align: inherit\; border-inline-style: none\; padding-inline: 0px\; -webkit-tap-highlight-color: transparent\; font-weight: 600\; list-style-type: none\; box-sizing: border-box\; touch-action: manipulation\; background-color: transparent\; display: inline\; padding-bottom: 0px\; border-top-style: none\; border-bottom-width: 0px\; border-bottom-style: none\; border-top-width: 0px\; margin-bottom: 0px\; margin-top: 0px\; padding-top: 0px\; font-family: inherit\;" tabindex="0">https://www.facebook.com/share/p/1CpESuV8DE/</a></span></div>\n</div>\n
LOCATION:Big Spring Park
UID:e.2144.19472
SEQUENCE:3
DTSTAMP:20260419T132713Z
URL:http://www.neoshocc.com/events/details/44th-neosho-dogwood-run-19472
END:VEVENT

END:VCALENDAR
