BEGIN:VCALENDAR
VERSION:2.0
PRODID:-//ChamberMaster//Event Calendar 2.0//EN
METHOD:PUBLISH
X-PUBLISHED-TTL:P3D
REFRESH-INTERVAL:P3D
CALSCALE:GREGORIAN
BEGIN:VEVENT
DTSTART:20260501T230000Z
DTEND:20260502T030000Z
X-MICROSOFT-CDO-ALLDAYEVENT:FALSE
SUMMARY:A Night at the Races
DESCRIPTION:We are excited to bring you a twist on our annual Derby event this year!\n\nThis year's event will be the night before the Kentucky Derby and is guaranteed to be a fun and interactive night of food\, drinks\, wooden horse racing\, raffles\, silent auctions and a hat contest to get your Derby weekend started off right.\n\nThe main event of the evening will be wooden horse racing. The Horses are sponsored by businesses in our community and will be decorated with the business logo/brand. Guests will get the opportunity to participate in the fun in many ways:\n\n* Make a donation to be a jockey for a race and have fun moving their Horse towards the finish line\n\n* "Bet" on which Horse will win\, place or show for each race\n\n* Use their winnings to trade for raffle tickets for prizes\n\n* Participate in the Best Hat contest\n\n* Bid on Silent Auction baskets\n\n* Enjoy a delicious meal\, tea and water included with your event ticket\n\n* Purchase a signature cocktail\, wine or beer\n\nWe look forward to A Night at the Races with you!
X-ALT-DESC;FMTTYPE=text/html:<div>We are excited to bring you a twist on our annual Derby event this year!</div>\n\n<div>This year&#39\;s event will be the night before the Kentucky Derby and is guaranteed to be a fun and interactive night of food\, drinks\, wooden horse racing\, raffles\, silent auctions and a hat contest to get your Derby weekend started off right.</div>\n\n<div>The main event of the evening will be wooden horse racing. The Horses are sponsored by businesses in our community and will be decorated with the business logo/brand. Guests will get the opportunity to participate in the fun in many ways:</div>\n\n<div>* Make a donation to be a jockey for a race and have fun moving their Horse towards the finish line<br />\n* &quot\;Bet&quot\; on which Horse will win\, place or show for each race<br />\n* Use their winnings to trade for raffle tickets for prizes<br />\n* Participate in the Best Hat contest<br />\n* Bid on Silent Auction baskets<br />\n* Enjoy a delicious meal\, tea and water included with your event ticket<br />\n* Purchase a signature cocktail\, wine or beer</div>\n\n<div>We look forward to A Night at the Races with you!</div>\n
LOCATION:Flagship Auto 180 South Business 49 Highway Neosho MO 64850
UID:e.2144.19205
SEQUENCE:3
DTSTAMP:20260419T172206Z
URL:http://www.neoshocc.com/events/details/a-night-at-the-races-19205
END:VEVENT

END:VCALENDAR
