BEGIN:VCALENDAR
VERSION:2.0
PRODID:-//ChamberMaster//Event Calendar 2.0//EN
METHOD:PUBLISH
X-PUBLISHED-TTL:P3D
REFRESH-INTERVAL:P3D
CALSCALE:GREGORIAN
BEGIN:VEVENT
DTSTART;VALUE=DATE:20260509
DTEND;VALUE=DATE:20260510
TRANSP:TRANSPARENT
X-MICROSOFT-CDO-ALLDAYEVENT:TRUE
SUMMARY:Goodman Color Run
DESCRIPTION:Goodman Color Run\n\n5K and 1 Mile Fun Run \n\n\n\nMay 9\, 2026\n\n1117 N. School St\, Goodman\, Mo. 64831\n\n\n\nRegistration will begin in February! Find the Event on Facebook\, Goodman Color Run: 5K and 1 Mile Fun Run\, for more updates!
X-ALT-DESC;FMTTYPE=text/html:Goodman Color Run<br />\n5K and 1 Mile Fun Run&nbsp\;<br />\n<br />\nMay 9\, 2026<br />\n1117 N. School St\, Goodman\, Mo. 64831<br />\n<br />\nRegistration will begin in February! Find the Event on Facebook\, Goodman Color Run: 5K and 1 Mile Fun Run\, for more updates!&nbsp\;<br />\n<br />\n<br />\n&nbsp\;
LOCATION:1117 N. School St Goodman\, Mo. 64831
UID:e.2144.18924
SEQUENCE:3
DTSTAMP:20260420T091444Z
URL:http://www.neoshocc.com/events/details/goodman-color-run-18924
END:VEVENT

END:VCALENDAR
