BEGIN:VCALENDAR
VERSION:2.0
PRODID:-//ChamberMaster//Event Calendar 2.0//EN
METHOD:PUBLISH
X-PUBLISHED-TTL:P3D
REFRESH-INTERVAL:P3D
CALSCALE:GREGORIAN
BEGIN:VEVENT
DTSTART:20231007T130000Z
DTEND:20231007T170000Z
X-MICROSOFT-CDO-ALLDAYEVENT:FALSE
SUMMARY:11th Annual Big Red Shoe Presented by TAMKO Building Products
DESCRIPTION:Runners and non-runners alike are invited to support families with seriously ill children by participating in our first-ever 8K\, the timed Kids 800M\, or the 1 Mile Walk for the House. Registration for the 11th Annual Big Red Shoe Presented by TAMKO Building Products is open now at https://register.chronotrack.com/r/72890. Unique features of the 11th annual event:   To meet requests for a longer race\, a new route was designed for an 8K race (the equivalent of five miles).   The first 200 people to register will receive a commemorative stone coaster from TAMKO Building Products.   Any participant who finishes the 8K or the Kids 800M will receive a collectible engraved pint glass and a logoed medal.   Participants who register by September 24th are guaranteed a Big Red Shoe commemorative t-shirt. The proceeds from this fundraising event will directly support the work done at Ronald McDonald House of the Four States and Ronald McDonald Family Room at Mercy Hospital.
X-ALT-DESC;FMTTYPE=text/html:Runners and non-runners alike are invited to support families with seriously ill children by participating in our first-ever 8K\, the timed Kids 800M\, or the 1 Mile Walk for the House. Registration for the 11th Annual Big Red Shoe Presented by TAMKO Building Products is open now at https://register.chronotrack.com/r/72890. Unique features of the 11th annual event: &bull\; To meet requests for a longer race\, a new route was designed for an 8K race (the equivalent of five miles). &bull\; The first 200 people to register will receive a commemorative stone coaster from TAMKO Building Products. &bull\; Any participant who finishes the 8K or the Kids 800M will receive a collectible engraved pint glass and a logoed medal. &bull\; Participants who register by September 24th are guaranteed a Big Red Shoe commemorative t-shirt. The proceeds from this fundraising event will directly support the work done at Ronald McDonald House of the Four States and Ronald McDonald Family Room at Mercy Hospital.
LOCATION:Ronald McDonald House of the Four States 3402 S. Jackson Avenue Joplin\, MO 64804
UID:e.2144.10772
SEQUENCE:3
DTSTAMP:20260425T122143Z
URL:https://www.neoshocc.com/events/details/11th-annual-big-red-shoe-presented-by-tamko-building-products-10772
END:VEVENT

END:VCALENDAR
