BEGIN:VCALENDAR
VERSION:2.0
PRODID:-//ChamberMaster//Event Calendar 2.0//EN
METHOD:PUBLISH
X-PUBLISHED-TTL:P3D
REFRESH-INTERVAL:P3D
CALSCALE:GREGORIAN
BEGIN:VEVENT
DTSTART:20250816T003000Z
DTEND:20250817T033000Z
X-MICROSOFT-CDO-ALLDAYEVENT:FALSE
SUMMARY:13th Annual Crowder College Roughrider Rodeo
DESCRIPTION:Enjoy LIVE entertainment at the 13th Annual Crowder College Roughrider Rodeo\, August 15-16 beginning nightly at 7:30pm. (608 W Field\, Neosho\, MO) Proceeds benefit Crowder Agriculture students.\n\n\n\nTo purchase tickets ahead of time\, visit https://crowderbookstore.com/product/2025-rodeo-tickets-aug-15-16/\n\nTickets purchased ahead of time are $12 for adults\, $8 for kids 6-12 years old. Children under 6 are admitted for free! Tickets can also be purchased night of at the gate. Gate tickets are $15 for adults\, $10 for kids 6-12 years old. Children under 6 are admitted for free!
X-ALT-DESC;FMTTYPE=text/html:<span style="color:rgb(23\, 43\, 77)\; font-family:-apple-system\,blinkmacsystemfont\,segoe ui\,roboto\,noto sans\,ubuntu\,droid sans\,helvetica neue\,sans-serif\; font-size:14px">Enjoy LIVE entertainment at the 13th Annual Crowder College Roughrider Rodeo\, August 15-16 beginning nightly at 7:30pm. (608 W Field\, Neosho\, MO) Proceeds benefit Crowder Agriculture students.</span><br />\n<br />\nTo purchase tickets ahead of time\, visit <a href="https://crowderbookstore.com/product/2025-rodeo-tickets-aug-15-16/">https://crowderbookstore.com/product/2025-rodeo-tickets-aug-15-16/</a><br />\nTickets purchased ahead of time are $12 for adults\, $8 for kids 6-12 years old. Children under 6 are admitted for free! Tickets can also be purchased night of at the gate. Gate tickets are $15 for adults\, $10 for kids 6-12 years old. Children under 6 are admitted for free!
LOCATION:608 W Field\, Neosho\, MO 64850
UID:e.2144.17538
SEQUENCE:3
DTSTAMP:20260424T060330Z
URL:https://www.neoshocc.com/events/details/13th-annual-crowder-college-roughrider-rodeo-17538
END:VEVENT

END:VCALENDAR
