BEGIN:VCALENDAR
VERSION:2.0
PRODID:-//ChamberMaster//Event Calendar 2.0//EN
METHOD:PUBLISH
X-PUBLISHED-TTL:P3D
REFRESH-INTERVAL:P3D
CALSCALE:GREGORIAN
BEGIN:VEVENT
DTSTART:20240928T220000Z
DTEND:20240929T020000Z
X-MICROSOFT-CDO-ALLDAYEVENT:FALSE
SUMMARY:15th Annual Big Bash
DESCRIPTION:Join us at the Empire Market in downtown Joplin Missouri on September 28th from 5pm - 9pm. Enjoy food from local restaurants. Sample amazing adult beverages from several local and national brands. Live music by Big Smitty and activities ensure this will be a great night for all attendees. \n\n\n\nAll proceeds benefit Big Brothers Big Sisters of Jasper and Newton Counties\n\n\n\n21+ Event\n\n\n\nGet your tickets now at joplinbigbro.org/events
X-ALT-DESC;FMTTYPE=text/html:Join us at the Empire Market in downtown Joplin Missouri on September 28th from 5pm - 9pm. Enjoy food from local restaurants. Sample amazing adult beverages from several local and national brands. Live music by Big Smitty and activities ensure this will be a great night for all attendees.&nbsp\;<br />\n<br />\nAll proceeds benefit Big Brothers Big Sisters of Jasper and Newton Counties<br />\n<br />\n21+ Event<br />\n<br />\nGet your tickets now at joplinbigbro.org/events<br />\n&nbsp\;
LOCATION:Joplin Empire Market 931 E. 4th St Joplin\, MO 64801
UID:e.2144.12214
SEQUENCE:3
DTSTAMP:20260424T202703Z
URL:https://www.neoshocc.com/events/details/15th-annual-big-bash-12214
END:VEVENT

END:VCALENDAR
