BEGIN:VCALENDAR
VERSION:2.0
PRODID:-//ChamberMaster//Event Calendar 2.0//EN
METHOD:PUBLISH
X-PUBLISHED-TTL:P3D
REFRESH-INTERVAL:P3D
CALSCALE:GREGORIAN
BEGIN:VEVENT
DTSTART;VALUE=DATE:20240629
DTEND;VALUE=DATE:20240630
TRANSP:TRANSPARENT
X-MICROSOFT-CDO-ALLDAYEVENT:TRUE
SUMMARY:1776 Sale and Customer Appreciation Day
DESCRIPTION:Join us June 29th at 9am for our biggest sales event to date!  17.76% OFF YOUR ENTIRE PURCHASE. We want to celebrate our country and customers with a day of deals\, steals\, and meals! Hotdogs\, chips\, cookies\, and water provided at 12 pm. Sales pricing good on in-stock merchandise\, while supplies last. No additional discounts\, some exclusions apply.
X-ALT-DESC;FMTTYPE=text/html:Join us June 29th at 9am for our biggest sales event to date!&nbsp\;&nbsp\;<strong>17.76% OFF YOUR ENTIRE PURCHASE.&nbsp\;</strong>We want to celebrate our country and customers with a day of deals\, steals\, and meals! Hotdogs\, chips\, cookies\, and water provided at 12 pm. Sales pricing good on&nbsp\;in-stock merchandise\, while supplies last. No additional discounts\, some exclusions apply.
LOCATION:
UID:e.2144.12197
SEQUENCE:3
DTSTAMP:20260425T004119Z
URL:https://www.neoshocc.com/events/details/1776-sale-and-customer-appreciation-day-12197
END:VEVENT

END:VCALENDAR
