BEGIN:VCALENDAR
VERSION:2.0
PRODID:-//ChamberMaster//Event Calendar 2.0//EN
METHOD:PUBLISH
X-PUBLISHED-TTL:P3D
REFRESH-INTERVAL:P3D
CALSCALE:GREGORIAN
BEGIN:VEVENT
DTSTART:20231116T140000Z
DTEND:20231116T203000Z
X-MICROSOFT-CDO-ALLDAYEVENT:FALSE
SUMMARY:2023 FORVIS Joplin Nonprofit Leadership Summit
DESCRIPTION:Join FORVIS for a landmark event as we share insights to help nonprofits reach their goals. We'll hear from the Joplin Regional Community Foundation and cover many topics\, including IRA tax credit opportunities\, workforce retention\, board governance\, fundraising\, and more.
X-ALT-DESC;FMTTYPE=text/html:<span style="font-family:arial\,sans-serif\;"><span style="font-size:11.0pt\;">Join FORVIS for a <a href="https://cvent.me/R2bWGQ">l</a>andmark event as we share insights to help nonprofits reach their goals. We&rsquo\;ll hear from the Joplin Regional Community Foundation and cover many topics\, including IRA tax credit opportunities\, workforce retention\, board governance\, fundraising\, and more.&nbsp\;</span></span>
LOCATION:Missouri Southern State University Billingsly Student Center 3950 Newman Rd. Joplin\, MO 64801
UID:e.2144.11046
SEQUENCE:3
DTSTAMP:20260425T105020Z
URL:https://www.neoshocc.com/events/details/2023-forvis-joplin-nonprofit-leadership-summit-11046
END:VEVENT

END:VCALENDAR
