BEGIN:VCALENDAR
VERSION:2.0
PRODID:-//ChamberMaster//Event Calendar 2.0//EN
METHOD:PUBLISH
X-PUBLISHED-TTL:P3D
REFRESH-INTERVAL:P3D
CALSCALE:GREGORIAN
BEGIN:VEVENT
DTSTART:20231001T150000Z
DTEND:20231001T190000Z
X-MICROSOFT-CDO-ALLDAYEVENT:FALSE
SUMMARY:2023 Neosho Arts Council Sidewalk Chalk Art Contest
DESCRIPTION:Join Neosho Arts Council for the 2023 Sidewalk Chalk Art Contest!\n\n\n\nTurn downtown Neosho into a work of art during the Neosho Fall Festival.\n\n\n\nSign up October 7 at the Neosho Arts Council booth on the Southwest corner of the Neosho Square.\n\nThe contest starts at 10:00am and the judging is at 2:00pm.\n\nCash prizes in all age divisions - Top prize in the Age 16 and up division is $300 with several hundred dollars being awarded over the three divisions.\n\n\n\nAges 6-10: Free to enter\n\nAges 11-15: Free to enter\n\nAges 16-Adult: $10 entry fee\n\n\n\nOne box of free chalks will be provided at sign up.\n\n\n\nDetails on the event can be found at neoshoarts.net. You can also follow @NeoshoArts on Facebook and Instagram.
X-ALT-DESC;FMTTYPE=text/html:<p><span style="font-family:arial\,helvetica\,sans-serif"><span style="font-size:12px">Join Neosho Arts Council for the 2023 Sidewalk Chalk Art Contest!<br />\n<br />\nTurn downtown Neosho into a work of art during the Neosho Fall Festival.<br />\n<br />\nSign up October 7 at the Neosho Arts Council booth on the Southwest corner of the Neosho Square.<br />\nThe contest starts at 10:00am and the judging is at 2:00pm.</span></span></p>\n\n<p><span style="font-family:arial\,helvetica\,sans-serif"><span style="font-size:12px">Cash prizes in all age divisions - Top prize in the Age 16 and up division is $300 with several hundred dollars being awarded over the three divisions.<br />\n<br />\nAges 6-10: Free to enter<br />\nAges 11-15: Free to enter<br />\nAges 16-Adult: $10 entry fee<br />\n<br />\nOne box of free chalks will be provided at sign up.<br />\n<br />\nDetails on the event can be found at neoshoarts.net. You can also follow @NeoshoArts on Facebook and Instagram.<br />\n&nbsp\;</span></span><br />\n<br />\n&nbsp\;</p>\n
LOCATION:Neosho Fall Festival
UID:e.2144.10723
SEQUENCE:3
DTSTAMP:20260425T122200Z
URL:https://www.neoshocc.com/events/details/2023-neosho-arts-council-sidewalk-chalk-art-contest-10723
END:VEVENT

END:VCALENDAR
