BEGIN:VCALENDAR
VERSION:2.0
PRODID:-//ChamberMaster//Event Calendar 2.0//EN
METHOD:PUBLISH
X-PUBLISHED-TTL:P3D
REFRESH-INTERVAL:P3D
CALSCALE:GREGORIAN
BEGIN:VEVENT
DTSTART;VALUE=DATE:20230206
DTEND;VALUE=DATE:20230224
TRANSP:TRANSPARENT
X-MICROSOFT-CDO-ALLDAYEVENT:TRUE
SUMMARY:2023 Neosho High School Art Exhibit at the Longwell Museum
DESCRIPTION:The Longwell Museum will host the 2023 Neosho High School Art Exhibit February 6   23 with a closing reception on February 23\, 5-7pm. Free and open to the public\, the exhibit is open Monday   Friday 9am-6pm (Closed on holidays).\n\n\n\nThe Longwell Museum is located in the Elsie Plaster Community Center at Crowder College. (601 Laclede Ave.\, Neosho\, MO 64850)
X-ALT-DESC;FMTTYPE=text/html:The Longwell Museum will host the 2023 Neosho High School Art Exhibit February 6 &ndash\; 23 with a closing reception on February 23\, 5-7pm. Free and open to the public\, the exhibit is open Monday &ndash\; Friday 9am-6pm (Closed on holidays).<br />\n<br />\nThe Longwell Museum is located in the Elsie Plaster Community Center at Crowder College. (601 Laclede Ave.\, Neosho\, MO 64850)
LOCATION:The Longwell Museum\, Elsie Plaster Community Center Crowder College. (601 Laclede Ave.\, Neosho\, MO 64850)
UID:e.2144.9085
SEQUENCE:3
DTSTAMP:20260426T004308Z
URL:https://www.neoshocc.com/events/details/2023-neosho-high-school-art-exhibit-at-the-longwell-museum-9085
END:VEVENT

END:VCALENDAR
