BEGIN:VCALENDAR
VERSION:2.0
PRODID:-//ChamberMaster//Event Calendar 2.0//EN
METHOD:PUBLISH
X-PUBLISHED-TTL:P3D
REFRESH-INTERVAL:P3D
CALSCALE:GREGORIAN
BEGIN:VEVENT
DTSTART:20241225T170000Z
DTEND:20241225T200000Z
X-MICROSOFT-CDO-ALLDAYEVENT:FALSE
SUMMARY:2024 Community Christmas Dinner
DESCRIPTION:If you know someone who is homebound or physically disabled in the Neosho Community that would enjoy a delicious\, homecooked Christmas Dinner\, call KNEO at 417.451.5636 with their name\, address\, and phone number.
X-ALT-DESC;FMTTYPE=text/html:If you know someone who is homebound or physically disabled in the Neosho Community that would enjoy a delicious\, homecooked Christmas Dinner\, call KNEO at 417.451.5636 with their name\, address\, and phone number.&nbsp\;
LOCATION:The Civic 109 W Main Neosho
UID:e.2144.14208
SEQUENCE:3
DTSTAMP:20260424T161559Z
URL:https://www.neoshocc.com/events/details/2024-community-christmas-dinner-14208
END:VEVENT

END:VCALENDAR
