BEGIN:VCALENDAR
VERSION:2.0
PRODID:-//ChamberMaster//Event Calendar 2.0//EN
METHOD:PUBLISH
X-PUBLISHED-TTL:P3D
REFRESH-INTERVAL:P3D
CALSCALE:GREGORIAN
BEGIN:VEVENT
DTSTART:20240920T150000Z
DTEND:20241017T050000Z
X-MICROSOFT-CDO-ALLDAYEVENT:FALSE
SUMMARY:2024 Thomas Hart Benton Youth Art Competition and Exhibition
DESCRIPTION:The "Thomas Hart Benton Youth Art Competition and Exhibition" presented by the Neosho Arts Council will be accepting entries from kid's age 8 to 12 and teens age 13 to 17.\n\n\n\n"The goal is to encourage young artists and help show them that their work is just as worthy of exhibition as an adult's work of art\," said Sarah Serio\, president of the Neosho Arts Council. The works will hang on public display this fall at the Neosho National Fish Hatchery.\n\n\n\nBy running this event concurrently with the 29th Annual Thomas Hart Benton Art Competition and Exhibition for emerging and professional artists the group hopes to pave a path for young creators to start and keep exhibiting their works.\n\n\n\n"Our group wants to encourage young area artists to create in traditional mediums so they can connect with their art in the same way that artists like Benton were able to\," Serio said. Prizes sponsored by Blick Art Materials will be awarded to the top three works in each division.\n\n\n\nThe event is accepting entries in painting\, drawing\, printmaking\, mixed media\, pastels\, charcoal\, ink\, and other similar 2D mediums. No photography\, digital works\, giclees\, high relief works\, or 3D works will be accepted.\n\n"It's exciting to hold this exhibition of young artist's works on the Hatchery grounds because this was a place Benton himself came to as a young artist to create\," Serio explained\n\n\n\nThis will be the second year for the exhibition to be hosted at the Neosho National Fish Hatchery which opened in 1888. Benton\, who was born in Neosho in 1889\, was known to have created art on the hatchery grounds. This includes a 1912 painting titled "The Fish Hatchery\, Neosho."\n\n\n\nThere is no entry fee for either division and no residency requirements. Up to three entries will be accepted per young artist. Works can be dropped off and entered September 20   26 at the Neosho National Fish Hatchery\, McKinney St./Hwy 86\, Neosho\, MO 64850\,  Monday - Friday\, 8:00 a.m. - 4:30 p.m. and Saturday - Sunday\, 10:00 a.m. - 4:00 p.m.\n\n\n\nAwards will be presented on October 17 at a closing reception from 5:00 to 6:30pm at the Neosho Fish National Fish Hatchery.\n\n\n\nYou can learn more about the event and download the entry form at neoshoarts.net.
X-ALT-DESC;FMTTYPE=text/html:<p>The &ldquo\;Thomas Hart Benton Youth Art Competition and Exhibition&rdquo\; presented by the Neosho Arts Council will be accepting entries from kid&rsquo\;s age 8 to 12 and teens age 13 to 17.<br />\n<br />\n&ldquo\;The goal is to encourage young artists and help show them that their work is just as worthy of exhibition as an adult&rsquo\;s work of art\,&rdquo\; said Sarah Serio\, president of the Neosho Arts Council. The works will hang on public display this fall at the Neosho National Fish Hatchery.<br />\n<br />\nBy running this event concurrently with the 29<sup>th</sup> Annual Thomas Hart Benton Art Competition and Exhibition for emerging and professional artists the group hopes to pave a path for young creators to start and keep exhibiting their works.</p>\n\n<p><br />\n&ldquo\;Our group wants to encourage young area artists to create in traditional mediums so they can connect with their art in the same way that artists like Benton were able to\,&rdquo\; Serio said. Prizes sponsored by Blick Art Materials will be awarded to the top three works in each division.<br />\n<br />\nThe event is accepting entries in painting\, drawing\, printmaking\, mixed media\, pastels\, charcoal\, ink\, and other similar 2D mediums. No photography\, digital works\, giclees\, high relief works\, or 3D works will be accepted.<br />\n&ldquo\;It&rsquo\;s exciting to hold this exhibition of young artist&rsquo\;s works on the Hatchery grounds because this was a place Benton himself came to as a young artist to create\,&rdquo\; Serio explained<br />\n<br />\nThis will be the second year for the exhibition to be hosted at the Neosho National Fish Hatchery which opened in 1888. Benton\, who was born in Neosho in 1889\, was known to have created art on the hatchery grounds. This includes a 1912 painting titled &ldquo\;The Fish Hatchery\, Neosho.&rdquo\;</p>\n\n<p><br />\nThere is no entry fee for either division and no residency requirements. Up to three entries will be accepted per young artist. Works can be dropped off and entered September 20 &ndash\; 26 at the Neosho National Fish Hatchery\, McKinney St./Hwy 86\, Neosho\, MO 64850\,&nbsp\; Monday - Friday\, 8:00 a.m. - 4:30 p.m. and Saturday - Sunday\, 10:00 a.m. - 4:00 p.m.<br />\n<br />\nAwards will be presented on October 17 at a closing reception from 5:00 to 6:30pm at the Neosho Fish National Fish Hatchery.<br />\n<br />\nYou can learn more about the event and download the entry form at neoshoarts.net.</p>\n
LOCATION:Neosho National Fish Hatchery\, McKinney St./Hwy 86\, Neosho\, MO 64850
UID:e.2144.12234
SEQUENCE:3
DTSTAMP:20260424T190807Z
URL:https://www.neoshocc.com/events/details/2024-thomas-hart-benton-youth-art-competition-and-exhibition-12234
END:VEVENT

END:VCALENDAR
