BEGIN:VCALENDAR
VERSION:2.0
PRODID:-//ChamberMaster//Event Calendar 2.0//EN
METHOD:PUBLISH
X-PUBLISHED-TTL:P3D
REFRESH-INTERVAL:P3D
CALSCALE:GREGORIAN
BEGIN:VEVENT
DTSTART:20251215T120000Z
DTEND:20251219T150000Z
X-MICROSOFT-CDO-ALLDAYEVENT:FALSE
SUMMARY:2025 Laymen's League Services
DESCRIPTION:The 79th annual Neosho Laymen's League services will be hosted December 15   19th at Abundant Life Church\, 700 Spencer Drive\, Neosho. \n\nServices will run 6:30AM   7:00AM each day with coffee & donuts starting at 6:00AM. \n\nThis year's featured speakers are Monday   Dale Brashears\, Sweetwater Baptist Church\;  Tuesday   Joe Davis\, St. Canera's Catholic Church\;  Wednesday - Kenny Balls\, Racine Christian Church\;  Thursday (Youth Day)   Jason Cramer\, Neosho Nazarene Church\;  Friday   Jake Holt\, Abundant Life Church.        \n\nThe purpose of these services is to keep the true meaning of Christmas in the minds and hearts of men through a season that focuses more & more on commerce and busy activities.  The theme for each speaker has been the same from their inception:  "What Christmas Means To Me." \n\nEvery year\, these services are organized and run by local area lay men in cooperation with local area churches.  Come join in!
X-ALT-DESC;FMTTYPE=text/html:<span style="font-family: Oxygen\, sans-serif\; font-size: 16px\; letter-spacing: 0.5px\;">The 79</span><span style="box-sizing: border-box\; position: relative\; font-size: 12px\; line-height: 0\; vertical-align: baseline\; top: -0.5em\; font-family: Oxygen\, sans-serif\; letter-spacing: 0.5px\;">th</span><span style="font-family: Oxygen\, sans-serif\; font-size: 16px\; letter-spacing: 0.5px\;">&nbsp\;annual Neosho Laymen&rsquo\;s League services will be hosted December 15 &ndash\; 19</span><span style="box-sizing: border-box\; position: relative\; font-size: 12px\; line-height: 0\; vertical-align: baseline\; top: -0.5em\; font-family: Oxygen\, sans-serif\; letter-spacing: 0.5px\;">th&nbsp\;</span><span style="font-family: Oxygen\, sans-serif\; font-size: 16px\; letter-spacing: 0.5px\;">at Abundant Life Church\, 700 Spencer Drive\, Neosho.&nbsp\;</span><br style="box-sizing: border-box\; font-family: Oxygen\, sans-serif\; font-size: 16px\; letter-spacing: 0.5px\;" />\n<span style="font-family: Oxygen\, sans-serif\; font-size: 16px\; letter-spacing: 0.5px\;">Services will run 6:30AM &ndash\; 7:00AM each day with coffee &amp\; donuts starting at 6:00AM.&nbsp\;</span><br style="box-sizing: border-box\; font-family: Oxygen\, sans-serif\; font-size: 16px\; letter-spacing: 0.5px\;" />\n<span style="font-family: Oxygen\, sans-serif\; font-size: 16px\; letter-spacing: 0.5px\;">This year&rsquo\;s featured speakers are Monday &ndash\; Dale Brashears\, Sweetwater Baptist Church\; &nbsp\;Tuesday &ndash\; Joe Davis\, St. Canera&rsquo\;s Catholic Church\; &nbsp\;Wednesday - Kenny Balls\, Racine Christian Church\; &nbsp\;Thursday (Youth Day) &ndash\; Jason Cramer\, Neosho Nazarene Church\;&nbsp\; Friday &ndash\; Jake Holt\, Abundant Life Church. &nbsp\;&nbsp\;&nbsp\;&nbsp\;&nbsp\;&nbsp\;&nbsp\;</span><br style="box-sizing: border-box\; font-family: Oxygen\, sans-serif\; font-size: 16px\; letter-spacing: 0.5px\;" />\n<span style="font-family: Oxygen\, sans-serif\; font-size: 16px\; letter-spacing: 0.5px\;">The purpose of these services is to keep the true meaning of Christmas in the minds and hearts of men through a season that focuses more &amp\; more on commerce and busy activities.&nbsp\; The theme for each speaker has been the same from their inception:&nbsp\; &ldquo\;What Christmas Means To Me.&rdquo\;&nbsp\;</span><br style="box-sizing: border-box\; font-family: Oxygen\, sans-serif\; font-size: 16px\; letter-spacing: 0.5px\;" />\n<span style="font-family: Oxygen\, sans-serif\; font-size: 16px\; letter-spacing: 0.5px\;">Every year\, these services are organized and run by local area lay men in cooperation with local area churches. &nbsp\;Come join in!</span>
LOCATION:Abundant Life Assembly of God
UID:e.2144.18843
SEQUENCE:3
DTSTAMP:20260424T002222Z
URL:https://www.neoshocc.com/events/details/2025-laymen-s-league-services-18843
END:VEVENT

END:VCALENDAR
