BEGIN:VCALENDAR
VERSION:2.0
PRODID:-//ChamberMaster//Event Calendar 2.0//EN
METHOD:PUBLISH
X-PUBLISHED-TTL:P3D
REFRESH-INTERVAL:P3D
CALSCALE:GREGORIAN
BEGIN:VEVENT
DTSTART:20251004T150000Z
DTEND:20251004T190000Z
X-MICROSOFT-CDO-ALLDAYEVENT:FALSE
SUMMARY:2025 Neosho Arts Council Sidewalk Chalk Art Contest
DESCRIPTION:Neosho Arts Council Sidewalk Chalk Art Contest\n\nOctober 4\, 2025 during the Neosho Fall Festival\n\n\n\nShare your work with us on Facebook and Instagram\, tag us and use #NeoshoArtsChalk25\n\n\n\nSign up October 4 on the Southwest corner of the Square at the Neosho Arts Council tent.\n\n\n\nContest starts at 10:00 am  |  Judging starts at 2:00pm\n\n\n\nCash Prizes for all age groups!\n\n	Ages 18+ $10 to Enter (Pay during sign up\, cash only)\n	\n		First Place $300\n\n		Second Place $200 \n\n		Third Place $100\n	\n	\n	Ages 13 - 17  Free to Enter\n	\n		First Place $75\n\n		Second Place $50\n\n		Third Place $25\n	\n	\n	Ages 6 - 12  Free to Enter\n	\n		First Place $20\n\n		Second Place $15\n\n		Third Place $10\n	\n	\n\n\n\nImportant Info and Rules\n\n\n	Each entrant will receive one free box of chalks.\n	Extra boxes of chalk are $10 a box for all ages.\n	You may also bring boxes of chalks from past chalk art contests or standard sidewalk chalks.\n	All works must stay inside the designated square area.\n	No permanent marking allowed (No spray paint\, paint markers/pens\, oil based mediums\, etc.)\n	We suggest you take a photo of your finished entry in case of rain. If it starts raining come to the NAC Booth at 2:00pm so the judge can see your entry photo.\n	Cash prizes will be mailed to the address on the entry form.\n\n\n\nPro Tips!\n\n\n	Bring knee pads or something to kneel or sit on\n	Wear a hat for shade and umbrella in case of rain\n	Plan your drawing in advance
X-ALT-DESC;FMTTYPE=text/html:Neosho Arts Council Sidewalk Chalk Art Contest<br />\nOctober 4\, 2025 during the Neosho Fall Festival<br />\n<br />\nShare your work with us on Facebook and Instagram\, tag us and use #NeoshoArtsChalk25<br />\n<br />\nSign up October 4 on the Southwest corner of the Square at the Neosho Arts Council tent.<br />\n<br />\nContest starts at 10:00 am&nbsp\; |&nbsp\; Judging starts at 2:00pm<br />\n<br />\n<u><strong>Cash Prizes for all age groups!</strong></u>\n<ul>\n	<li>Ages 18+ $10 to Enter (Pay during sign up\, cash only)\n	<ul>\n		<li>First Place $300<br />\n		Second Place $200&nbsp\;<br />\n		Third Place $100</li>\n	</ul>\n	</li>\n	<li>Ages 13 - 17&nbsp\; Free to Enter\n	<ul>\n		<li>First Place $75<br />\n		Second Place $50<br />\n		Third Place $25</li>\n	</ul>\n	</li>\n	<li>Ages 6 - 12&nbsp\; Free to Enter\n	<ul>\n		<li>First Place $20<br />\n		Second Place $15<br />\n		Third Place $10</li>\n	</ul>\n	</li>\n</ul>\n<br />\n<u><strong>Important Info and Rules</strong></u>\n\n<ul>\n	<li>Each entrant will receive one free box of chalks.</li>\n	<li>Extra boxes of chalk are $10 a box for all ages.</li>\n	<li>You may also bring boxes of chalks from past chalk art contests or standard sidewalk chalks.</li>\n	<li>All works must stay inside the designated square area.</li>\n	<li>No permanent marking allowed (No spray paint\, paint markers/pens\, oil based mediums\, etc.)</li>\n	<li>We suggest you take a photo of your finished entry in case of rain. If it starts raining come to the NAC Booth at 2:00pm so the judge can see your entry photo.</li>\n	<li>Cash prizes will be mailed to the address on the entry form.</li>\n</ul>\n<br />\n<u><strong>Pro Tips!</strong></u>\n\n<ul>\n	<li>Bring knee pads or something to kneel or sit on</li>\n	<li>Wear a hat for shade and umbrella in case of rain</li>\n	<li>Plan your drawing in advance</li>\n</ul>\n
LOCATION:Neosho Fall Festival
UID:e.2144.18468
SEQUENCE:3
DTSTAMP:20260424T030057Z
URL:https://www.neoshocc.com/events/details/2025-neosho-arts-council-sidewalk-chalk-art-contest-18468
END:VEVENT

END:VCALENDAR
