BEGIN:VCALENDAR
VERSION:2.0
PRODID:-//ChamberMaster//Event Calendar 2.0//EN
METHOD:PUBLISH
X-PUBLISHED-TTL:P3D
REFRESH-INTERVAL:P3D
CALSCALE:GREGORIAN
BEGIN:VEVENT
DTSTART;VALUE=DATE:20251229
DTEND;VALUE=DATE:20260101
TRANSP:TRANSPARENT
X-MICROSOFT-CDO-ALLDAYEVENT:TRUE
SUMMARY:2025 Neosho Holiday Classic
DESCRIPTION:The 2025 Neosho Holiday Classic basketball tournament will be held\,\n\nMonday\, Dec. 29- Wednesday\, Dec. 31\, 2025.\n\n \n\nGames will be played at Neosho High School and Neosho Junior High School. \n\n \n\nAll championship games for both divisions will be held at Neosho High School.
X-ALT-DESC;FMTTYPE=text/html:<div>&nbsp\;</div>\n\n<p style="box-sizing: border-box\; margin: 0px 0px 10px\; color: rgb(0\, 1\, 4)\; font-family: Poppins\, sans-serif\; font-size: 18px\; text-align: center\;"><span style="box-sizing: border-box\; font-size: 20px\;"><span style="box-sizing: border-box\; font-family: Arial\, Helvetica\, sans-serif\;">The 2025 Neosho Holiday Classic basketball tournament will be held\,<br style="box-sizing: border-box\;" />\n<strong style="box-sizing: border-box\; font-weight: bold\;">Monday\, Dec. 29- Wednesday\, Dec. 31\, 2025.</strong></span></span></p>\n\n<p style="box-sizing: border-box\; margin: 0px 0px 10px\; color: rgb(0\, 1\, 4)\; font-family: Poppins\, sans-serif\; font-size: 18px\; text-align: center\;">&nbsp\;</p>\n\n<p style="box-sizing: border-box\; margin: 0px 0px 10px\; color: rgb(0\, 1\, 4)\; font-family: Poppins\, sans-serif\; font-size: 18px\; text-align: center\;"><span style="box-sizing: border-box\; font-size: 20px\;"><span style="box-sizing: border-box\; font-family: Arial\, Helvetica\, sans-serif\;">Games will be played at Neosho High School and Neosho Junior High School.&nbsp\;</span></span></p>\n\n<p style="box-sizing: border-box\; margin: 0px 0px 10px\; color: rgb(0\, 1\, 4)\; font-family: Poppins\, sans-serif\; font-size: 18px\; text-align: center\;">&nbsp\;</p>\n\n<p style="box-sizing: border-box\; margin: 0px 0px 10px\; color: rgb(0\, 1\, 4)\; font-family: Poppins\, sans-serif\; font-size: 18px\; text-align: center\;"><span style="box-sizing: border-box\; font-size: 20px\;"><span style="box-sizing: border-box\; font-family: Arial\, Helvetica\, sans-serif\;">All championship games for both divisions&nbsp\;will be held at Neosho High School.</span></span></p>\n
LOCATION:Neosho High School and Neosho Junior High School
UID:e.2144.18877
SEQUENCE:3
DTSTAMP:20260423T224717Z
URL:https://www.neoshocc.com/events/details/2025-neosho-holiday-classic-18877
END:VEVENT

END:VCALENDAR
