BEGIN:VCALENDAR
VERSION:2.0
PRODID:-//ChamberMaster//Event Calendar 2.0//EN
METHOD:PUBLISH
X-PUBLISHED-TTL:P3D
REFRESH-INTERVAL:P3D
CALSCALE:GREGORIAN
BEGIN:VEVENT
DTSTART;VALUE=DATE:20250710
DTEND;VALUE=DATE:20250711
TRANSP:TRANSPARENT
X-MICROSOFT-CDO-ALLDAYEVENT:TRUE
SUMMARY:2025 Newton County Fair
DESCRIPTION:Thursday at the Newton Co. Fair!   \n\n  July 10\, 2025\n\nIt's another action-packed day at the fair! Here's what's happening:\n\n  8AM   Swine Show (Peewee Show Follows) & Horse Trail Classes\n\n  10AM   Poultry Show\n\n  10:30AM   Rabbit & Peewee Rabbit Show\n\n  2PM   Dairy Cattle Show\n\n  5PM   Sheep Show\n\n  6PM   Carnival Opens!\n\n  7PM   Horse Western Pleasure & Horsemanship\n\n  7:30PM   Adult Swine Showmanship\n\n  Bring the whole family out for animals\, rides\, and fair fun!\n\n#NewtonCountyFair #FFA #4H #CountyFairFun #ThursdayAtTheFair #LivestockShows #CarnivalTime
X-ALT-DESC;FMTTYPE=text/html:<p data-end="165" data-start="96">&#128055\;&#128052\; <strong data-end="137" data-start="101">Thursday at the Newton Co. Fair!</strong> &#128048\;&#128004\;<br data-end="145" data-start="142" />\n&#128197\; <strong data-end="165" data-start="148">July 10\, 2025</strong></p>\n\n<p data-end="235" data-start="167">It&rsquo\;s another action-packed day at the fair! Here&#39\;s what&#39\;s happening:</p>\n\n<p data-end="533" data-start="237">&#128343\; 8AM &ndash\; Swine Show (Peewee Show Follows) &amp\; Horse Trail Classes<br data-end="303" data-start="300" />\n&#128345\; 10AM &ndash\; Poultry Show<br data-end="328" data-start="325" />\n&#128357\; 10:30AM &ndash\; Rabbit &amp\; Peewee Rabbit Show<br data-end="371" data-start="368" />\n&#128337\; 2PM &ndash\; Dairy Cattle Show<br data-end="400" data-start="397" />\n&#128340\; 5PM &ndash\; Sheep Show<br data-end="422" data-start="419" />\n&#127905\; 6PM &ndash\; Carnival Opens!<br data-end="449" data-is-only-node="" data-start="446" />\n&#128342\; 7PM &ndash\; Horse Western Pleasure &amp\; Horsemanship<br data-end="498" data-start="495" />\n&#128354\; 7:30PM &ndash\; Adult Swine Showmanship</p>\n\n<p data-end="598" data-start="535">&#127903\; Bring the whole family out for animals\, rides\, and fair fun!</p>\n\n<p data-end="690" data-start="600">#NewtonCountyFair #FFA #4H #CountyFairFun #ThursdayAtTheFair #LivestockShows #CarnivalTime</p>\n
LOCATION:Newton County Fairgrounds 700 Field Ave\, Neosho\, Mo. 64850
UID:e.2144.17318
SEQUENCE:3
DTSTAMP:20260424T074022Z
URL:https://www.neoshocc.com/events/details/2025-newton-county-fair-07-10-2025-17318
END:VEVENT

END:VCALENDAR
