BEGIN:VCALENDAR
VERSION:2.0
PRODID:-//ChamberMaster//Event Calendar 2.0//EN
METHOD:PUBLISH
X-PUBLISHED-TTL:P3D
REFRESH-INTERVAL:P3D
CALSCALE:GREGORIAN
BEGIN:VEVENT
DTSTART;VALUE=DATE:20250709
DTEND;VALUE=DATE:20250710
TRANSP:TRANSPARENT
X-MICROSOFT-CDO-ALLDAYEVENT:TRUE
SUMMARY:2025 Newton County Fair
DESCRIPTION:Wednesday at the Newton Co. Fair!   \n\n  July 9\, 2025\n\nHere's what's happening all day at the fair:\n\n  9AM   Broiler Pen Show\n\n  4PM   Opening Ceremonies & Exhibit Buildings Open\n\n  5PM   Market Show (Goats\, Sheep\, Steers) + Open Poultry Show\n\n  6PM   Ranch Riding\, Costume Class (Horse Arena) & Carnival Opens!\n\n  7PM   Rabbit Meat Pen & Open Show\n\n  Don't miss the rides\, ribbons\, and family fun all night long!\n\n#NewtonCountyFair #FairFun #FFA #4H #CountyFairVibes #WednesdayAtTheFair
X-ALT-DESC;FMTTYPE=text/html:<p data-end="185" data-start="114">&#127905\;&#128016\; <strong data-end="156" data-start="119">Wednesday at the Newton Co. Fair!</strong> &#128007\;&#127904\;<br data-end="164" data-start="161" />\n&#128197\; <strong data-end="183" data-start="167">July 9\, 2025</strong></p>\n\n<p data-end="490" data-start="187">Here&rsquo\;s what&rsquo\;s happening all day at the fair:<br data-end="234" data-start="231" />\n&#128344\; 9AM &ndash\; Broiler Pen Show<br data-end="262" data-start="259" />\n&#128339\; 4PM &ndash\; Opening Ceremonies &amp\; Exhibit Buildings Open<br data-end="317" data-start="314" />\n&#128340\; 5PM &ndash\; Market Show (Goats\, Sheep\, Steers) + Open Poultry Show<br data-end="383" data-start="380" />\n&#128341\; 6PM &ndash\; Ranch Riding\, Costume Class (Horse Arena) &amp\; Carnival Opens!<br data-end="454" data-start="451" />\n&#128342\; 7PM &ndash\; Rabbit Meat Pen &amp\; Open Show</p>\n\n<p data-end="556" data-start="492">&#127914\; Don&rsquo\;t miss the rides\, ribbons\, and family fun all night long!</p>\n\n<p data-end="630" data-start="558">#NewtonCountyFair #FairFun #FFA #4H #CountyFairVibes #WednesdayAtTheFair</p>\n
LOCATION:Newton County Fairgrounds 700 Field Ave\, Neosho\, Mo.
UID:e.2144.17317
SEQUENCE:3
DTSTAMP:20260424T073831Z
URL:https://www.neoshocc.com/events/details/2025-newton-county-fair-17317
END:VEVENT

END:VCALENDAR
