BEGIN:VCALENDAR
VERSION:2.0
PRODID:-//ChamberMaster//Event Calendar 2.0//EN
METHOD:PUBLISH
X-PUBLISHED-TTL:P3D
REFRESH-INTERVAL:P3D
CALSCALE:GREGORIAN
BEGIN:VEVENT
DTSTART;VALUE=DATE:20250711
DTEND;VALUE=DATE:20250712
TRANSP:TRANSPARENT
X-MICROSOFT-CDO-ALLDAYEVENT:TRUE
SUMMARY:2025 Newton County Fair
DESCRIPTION:Friday Fun at the Newton Co. Fair!   \n\n  July 11\, 2025\n\nFrom livestock shows to live music\, Friday is packed with action you don't want to miss!\n\n  8AM   Beef Cattle Show (followed by Bucket Calf Show) + Horse Showmanship & Hunt Seat\n\n  12PM   Boer Goat Show\n\n  3PM   Dairy Goat Show\n\n  5PM   Show-De-O\n\n  6PM   Carnival Opens\n\n  7PM   Breaking Boundaries Show\n\n  8PM   Bobby DeGonia Band\n\n  Bring the whole crew fun\, food\, animals\, and entertainment await!\n\n#NewtonCountyFair #FFA #4H #FridayAtTheFair #CarnivalTime #LiveMusic #CountyFairFun
X-ALT-DESC;FMTTYPE=text/html:<p data-end="164" data-start="93">&#128046\;&#127928\; <strong data-end="136" data-start="98">Friday Fun at the Newton Co. Fair!</strong> &#127904\;&#128016\;<br data-end="144" data-start="141" />\n&#128197\; <strong data-end="164" data-start="147">July 11\, 2025</strong></p>\n\n<p data-end="254" data-start="166">From livestock shows to live music\, Friday is packed with action you don&rsquo\;t want to miss!</p>\n\n<p data-end="511" data-start="256">&#128343\; 8AM &ndash\; Beef Cattle Show (followed by Bucket Calf Show) + Horse Showmanship &amp\; Hunt Seat<br data-end="347" data-start="344" />\n&#128347\; 12PM &ndash\; Boer Goat Show<br data-end="374" data-start="371" />\n&#128338\; 3PM &ndash\; Dairy Goat Show<br data-end="401" data-start="398" />\n&#128340\; 5PM &ndash\; Show-De-O<br data-end="422" data-start="419" />\n&#127905\; 6PM &ndash\; Carnival Opens<br data-end="448" data-start="445" />\n&#127908\; 7PM &ndash\; Breaking Boundaries Show<br data-end="484" data-is-only-node="" data-start="481" />\n&#127926\; 8PM &ndash\; Bobby DeGonia Band</p>\n\n<p data-end="581" data-start="513">&#127903\; Bring the whole crew&mdash\;fun\, food\, animals\, and entertainment await!</p>\n\n<p data-end="666" data-start="583">#NewtonCountyFair #FFA #4H #FridayAtTheFair #CarnivalTime #LiveMusic #CountyFairFun</p>\n
LOCATION:Newton County Fairgrounds 700 Field Ave\, Neosho\, Mo. 64850
UID:e.2144.17319
SEQUENCE:3
DTSTAMP:20260424T060300Z
URL:https://www.neoshocc.com/events/details/2025-newton-county-fair-17319
END:VEVENT

END:VCALENDAR
