BEGIN:VCALENDAR
VERSION:2.0
PRODID:-//ChamberMaster//Event Calendar 2.0//EN
METHOD:PUBLISH
X-PUBLISHED-TTL:P3D
REFRESH-INTERVAL:P3D
CALSCALE:GREGORIAN
BEGIN:VEVENT
DTSTART;VALUE=DATE:20250712
DTEND;VALUE=DATE:20250713
TRANSP:TRANSPARENT
X-MICROSOFT-CDO-ALLDAYEVENT:TRUE
SUMMARY:2025 Newton County Fair
DESCRIPTION:Saturday at the Newton Co. Fair!   \n\n  July 12\, 2025\n\nLet's close out fair week with a bang! Here's what's happening:\n\n  8:30AM   Open Horse Shows & Round Robin Showmanship\n\n  11:30AM   Best of Show Awards\n\n  12PM   Peewee Showmanship\n\n  4:30PM   Livestock Buyers Dinner\n\n  6PM   Watermelon Feed\n\n  6PM   Carnival Opens\n\n  7PM   Market Sale\n\n  8PM   Live Music from Blues City Limits\n\n  Bring your family\, fill your plate\, ride the rides\, and enjoy the last night of fair magic!\n\n#NewtonCountyFair #FFA #4H #SaturdayAtTheFair #WatermelonFeed #BluesCityLimits #FamilyFun #CountyFairVibes
X-ALT-DESC;FMTTYPE=text/html:<p data-end="161" data-start="92">&#128052\;&#127817\; <strong data-end="133" data-start="97">Saturday at the Newton Co. Fair!</strong> &#127905\;&#127926\;<br data-end="141" data-start="138" />\n&#128197\; <strong data-end="161" data-start="144">July 12\, 2025</strong></p>\n\n<p data-end="226" data-start="163">Let&rsquo\;s close out fair week with a bang! Here&rsquo\;s what&rsquo\;s happening:</p>\n\n<p data-end="511" data-start="228">&#128355\; 8:30AM &ndash\; Open Horse Shows &amp\; Round Robin Showmanship<br data-end="285" data-start="282" />\n&#128358\; 11:30AM &ndash\; Best of Show Awards<br data-end="320" data-start="317" />\n&#128347\; 12PM &ndash\; Peewee Showmanship<br data-end="351" data-start="348" />\n&#128351\; 4:30PM &ndash\; Livestock Buyers Dinner<br data-end="389" data-start="386" />\n&#127817\; 6PM &ndash\; Watermelon Feed<br data-end="416" data-start="413" />\n&#127905\; 6PM &ndash\; Carnival Opens<br data-end="442" data-is-only-node="" data-start="439" />\n&#128176\; 7PM &ndash\; Market Sale<br data-end="465" data-start="462" />\n&#127925\; 8PM &ndash\; Live Music from <strong data-end="511" data-start="490">Blues City Limits</strong></p>\n\n<p data-end="607" data-start="513">&#127903\; Bring your family\, fill your plate\, ride the rides\, and enjoy the last night of fair magic!</p>\n\n<p data-end="715" data-start="609">#NewtonCountyFair #FFA #4H #SaturdayAtTheFair #WatermelonFeed #BluesCityLimits #FamilyFun #CountyFairVibes</p>\n
LOCATION:Newton County Fairgrounds 700 Field Ave\, Neosho\, Mo.
UID:e.2144.17320
SEQUENCE:3
DTSTAMP:20260424T073824Z
URL:https://www.neoshocc.com/events/details/2025-newton-county-fair-17320
END:VEVENT

END:VCALENDAR
