BEGIN:VCALENDAR
VERSION:2.0
PRODID:-//ChamberMaster//Event Calendar 2.0//EN
METHOD:PUBLISH
X-PUBLISHED-TTL:P3D
REFRESH-INTERVAL:P3D
CALSCALE:GREGORIAN
BEGIN:VEVENT
DTSTART;VALUE=DATE:20260215
DTEND;VALUE=DATE:20260216
TRANSP:TRANSPARENT
X-MICROSOFT-CDO-ALLDAYEVENT:TRUE
SUMMARY:2026 Bright Futures Bowling for a Cause
DESCRIPTION:?? Strike Up Some Fun for a Great Cause! ??\n\nJoin us for the Neosho Bright Futures Bowling Fundraiser on February 15th! This family-friendly event supports students and families right here in our community.\n\n? Optional gutter protection available\n\n?? Silent auction items to bid on\n\n?? Don't forget your socks!\n\nEvery roll helps make a difference. Thank you for supporting Neosho Bright Futures   we can't wait to see you there! ????
X-ALT-DESC;FMTTYPE=text/html:<p>?? <strong>Strike Up Some Fun for a Great Cause!</strong> ??</p>\n\n<p>Join us for the <strong>Neosho Bright Futures Bowling Fundraiser</strong> on <strong>February 15th</strong>! This family-friendly event supports students and families right here in our community.</p>\n\n<p>? Optional <strong>gutter protection</strong> available<br />\n?? <strong>Silent auction items</strong> to bid on<br />\n?? Don&rsquo\;t forget your socks!</p>\n\n<p>Every roll helps make a difference. Thank you for supporting Neosho Bright Futures &mdash\; we can&rsquo\;t wait to see you there! ????</p>\n
LOCATION:Edgewood Bowling Center 2811 Garner-Edgewood Dr Neosho\, MO
UID:e.2144.18922
SEQUENCE:3
DTSTAMP:20260423T193431Z
URL:https://www.neoshocc.com/events/details/2026-bright-futures-bowling-for-a-cause-18922
END:VEVENT

END:VCALENDAR
