BEGIN:VCALENDAR
VERSION:2.0
PRODID:-//ChamberMaster//Event Calendar 2.0//EN
METHOD:PUBLISH
X-PUBLISHED-TTL:P3D
REFRESH-INTERVAL:P3D
CALSCALE:GREGORIAN
BEGIN:VEVENT
DTSTART:20260202T150000Z
DTEND:20260227T020000Z
X-MICROSOFT-CDO-ALLDAYEVENT:FALSE
SUMMARY:2026 NHS Exhibit at the Crowder College Longwell Museum
DESCRIPTION:The Crowder College Fine Arts Division is pleased to once again host an annual art exhibit at the Crowder College Longwell Museum\, featuring artwork created by Neosho High School students. \n\nThis particular exhibition has been hosted inside the Longwell Museum for over a decade and features acrylic paintings\, drawings\, pen and ink artwork\, mixed media\, printmaking\, ceramics and sculptures.\n\nThe exhibition is available for viewing until February 26 inside the Longwell Museum and will offer a reception from 5pm   7pm on February 26. The Longwell Museum is open Monday through Friday from 9am   4pm (closed on holidays) and is located inside the Elsie Plaster Community Center at Crowder College Neosho\, located at 601 Laclede Ave.\, Neosho\, MO. The exhibit is free and open to the public.
X-ALT-DESC;FMTTYPE=text/html:<span style="font-family:lato\,sans-serif"><span style="font-size:12.0pt">The Crowder College Fine Arts Division is pleased to once again host an annual art exhibit at the Crowder College Longwell Museum\, featuring artwork created by Neosho High School students. </span></span><br />\n<span style="font-family:lato\,sans-serif"><span style="font-size:12.0pt">This particular exhibition has been hosted inside the Longwell Museum for over a decade and features acrylic paintings\, drawings\, pen and ink artwork\, mixed media\, printmaking\, ceramics and sculptures.</span></span><br />\n<span style="font-family:lato\,sans-serif"><span style="font-size:12.0pt">The exhibition is available for viewing until February 26 inside the Longwell Museum and will offer a reception from 5pm &ndash\; 7pm on February 26. The Longwell Museum is open Monday through Friday from 9am &ndash\; 4pm (closed on holidays) and is located inside the Elsie Plaster Community Center at Crowder College Neosho\, located at 601 Laclede Ave.\, Neosho\, MO. The exhibit is free and open to the public.</span></span><br />\n&nbsp\;
LOCATION:The Longwell Museum\, Elsie Plaster Community Center Crowder College. (601 Laclede Ave.\, Neosho\, MO 64850)
UID:e.2144.19194
SEQUENCE:3
DTSTAMP:20260423T194426Z
URL:https://www.neoshocc.com/events/details/2026-nhs-exhibit-at-the-crowder-college-longwell-museum-19194
END:VEVENT

END:VCALENDAR
