BEGIN:VCALENDAR
VERSION:2.0
PRODID:-//ChamberMaster//Event Calendar 2.0//EN
METHOD:PUBLISH
X-PUBLISHED-TTL:P3D
REFRESH-INTERVAL:P3D
CALSCALE:GREGORIAN
BEGIN:VEVENT
DTSTART:20221225T170000Z
DTEND:20221225T200000Z
X-MICROSOFT-CDO-ALLDAYEVENT:FALSE
SUMMARY:20th Annual Community Christmas Dinner
DESCRIPTION:20th Annual Christmas Dinner \n\n\n\nVolunteers and financial assistance is always needed to feed over 500 people who receive a meal. Meals are also delivered to Neosho Fire\, Police\, EMS\, Newton County Jail\, homebound and meals on wheels.
X-ALT-DESC;FMTTYPE=text/html:20th Annual Christmas Dinner&nbsp\;<br />\n<br />\nVolunteers and financial assistance is always needed to feed over 500 people who receive a meal. Meals are also delivered to Neosho Fire\, Police\, EMS\, Newton County Jail\, homebound and meals on wheels.<br />\n&nbsp\;
LOCATION:Neosho Municipal Auditorium 109 W Main Street Neosho\, MO 64850
UID:e.2144.8901
SEQUENCE:3
DTSTAMP:20260426T035246Z
URL:https://www.neoshocc.com/events/details/20th-annual-community-christmas-dinner-8901
END:VEVENT

END:VCALENDAR
