BEGIN:VCALENDAR
VERSION:2.0
PRODID:-//ChamberMaster//Event Calendar 2.0//EN
METHOD:PUBLISH
X-PUBLISHED-TTL:P3D
REFRESH-INTERVAL:P3D
CALSCALE:GREGORIAN
BEGIN:VEVENT
DTSTART:20231114T230000Z
DTEND:20231115T020000Z
X-MICROSOFT-CDO-ALLDAYEVENT:FALSE
SUMMARY:21st Annual Festival of Wreaths: Benefitting the Crowder College Foundation
DESCRIPTION:Join the Crowder Foundation at the 21st Annual Festival of Wreaths\, November 14\, 5pm\, in the Elsie Plaster Community Center on the Neosho campus. This event is the single largest fundraising event for scholarships. Enjoy a hors d'oeuvres during the Silent Auction from 5pm- 6:30pm\, before joining the LIVE Auction at 6:30pm. Raffle tickets may be purchased prior to the event\, need not be present to win!\n\n\n\nRegister and purchase raffle tickets: one.bidpal.net/FOW2023
X-ALT-DESC;FMTTYPE=text/html:Join the Crowder Foundation at the 21st Annual Festival of Wreaths\, November 14\, 5pm\, in the Elsie Plaster Community Center on the Neosho campus. This event is the single largest fundraising event for scholarships. Enjoy a hors d&#39\;oeuvres during the Silent Auction from 5pm- 6:30pm\, before joining the LIVE Auction at 6:30pm. Raffle tickets may be purchased prior to the event\, need not be present to win!<br />\n<br />\nRegister and purchase raffle tickets:&nbsp\;<a href="https://one.bidpal.net/fow2023/welcome">one.bidpal.net/FOW2023</a>
LOCATION:Crowder College Elsie Plaster Community Center 601 Laclede Ave.\, Neosho\, MO
UID:e.2144.11050
SEQUENCE:3
DTSTAMP:20260425T105700Z
URL:https://www.neoshocc.com/events/details/21st-annual-festival-of-wreaths-benefitting-the-crowder-college-foundation-11050
END:VEVENT

END:VCALENDAR
