BEGIN:VCALENDAR
VERSION:2.0
PRODID:-//ChamberMaster//Event Calendar 2.0//EN
METHOD:PUBLISH
X-PUBLISHED-TTL:P3D
REFRESH-INTERVAL:P3D
CALSCALE:GREGORIAN
BEGIN:VEVENT
DTSTART:20241112T230000Z
DTEND:20241113T020000Z
X-MICROSOFT-CDO-ALLDAYEVENT:FALSE
SUMMARY:22nd Annual Festival of Wreaths: Benefitting the Crowder College Foundation
DESCRIPTION:Join the Crowder College Foundation at the 22nd Annual Festival of Wreaths\, November 12\, 5pm\, in the Elsie Plaster Community Center on the Neosho campus at 601 Laclede Ave.\, Neosho\, MO. This event is the single largest fundraising event for student scholarships. Enjoy a buffet dinner during the Silent Auction from 5pm- 6:30pm\, before joining the LIVE Auction at 6:30pm. Raffle tickets may be purchased prior to the event\, need not be present to win!\n\n\n\nRegistere here: https://onecau.se/fow2024
X-ALT-DESC;FMTTYPE=text/html:Join the Crowder College Foundation at the 22nd Annual Festival of Wreaths\, November 12\, 5pm\, in the Elsie Plaster Community Center on the Neosho campus at 601 Laclede Ave.\, Neosho\, MO. This event is the single largest fundraising event for student scholarships. Enjoy a buffet dinner during the Silent Auction from 5pm- 6:30pm\, before joining the LIVE Auction at 6:30pm. Raffle tickets may be purchased prior to the event\, need not be present to win!<br />\n<br />\nRegistere here:&nbsp\;<a class="css-1rn59kg" href="https://onecau.se/fow2024" style="color: var(--ds-link\, #0052CC)\; text-decoration-line: none\; font-family: -apple-system\, BlinkMacSystemFont\, &quot\;Segoe UI&quot\;\, Roboto\, Oxygen\, Ubuntu\, &quot\;Fira Sans&quot\;\, &quot\;Droid Sans&quot\;\, &quot\;Helvetica Neue&quot\;\, sans-serif\; font-size: 14px\; letter-spacing: -0.07px\; white-space-collapse: preserve\; background-color: rgba(9\, 30\, 66\, 0.06)\;" title="https://onecau.se/fow2024">https://onecau.se/fow2024</a><span style="background-color:rgba(9\, 30\, 66\, 0.06)\; color:rgb(23\, 43\, 77)\; font-family:-apple-system\,blinkmacsystemfont\,segoe ui\,roboto\,oxygen\,ubuntu\,fira sans\,droid sans\,helvetica neue\,sans-serif\; font-size:14px"> </span>
LOCATION:Elsie Plaster Community Center\, Crowder College\, 601 Laclede Ave.\, Neosho\, MO 64850
UID:e.2144.13105
SEQUENCE:3
DTSTAMP:20260424T174004Z
URL:https://www.neoshocc.com/events/details/22nd-annual-festival-of-wreaths-benefitting-the-crowder-college-foundation-13105
END:VEVENT

END:VCALENDAR
