BEGIN:VCALENDAR
VERSION:2.0
PRODID:-//ChamberMaster//Event Calendar 2.0//EN
METHOD:PUBLISH
X-PUBLISHED-TTL:P3D
REFRESH-INTERVAL:P3D
CALSCALE:GREGORIAN
BEGIN:VEVENT
DTSTART:20251111T230000Z
DTEND:20251112T020000Z
X-MICROSOFT-CDO-ALLDAYEVENT:FALSE
SUMMARY:23rd Annual Festival of Wreaths: Benefitting the Crowder College Foundation
DESCRIPTION:Join the Crowder Foundation at the 23rd Annual Festival of Wreaths\, November 11\, 5pm\, in the Elsie Plaster Community Center on the Neosho campus. This event is the single largest fundraising event for scholarships! Enjoy a hors d'oeuvres during the Silent Auction from 5pm- 6:30pm\, before joining the LIVE Auction at 6:30pm. Raffle tickets may be purchased prior to the event\, need not be present to win!\n\n\n\nRegister and purchase raffle tickets before the event: onecau.se/fow25
X-ALT-DESC;FMTTYPE=text/html:Join the Crowder Foundation at the 23rd Annual Festival of Wreaths\, November 11\, 5pm\, in the Elsie Plaster Community Center on the Neosho campus. This event is the single largest fundraising event for scholarships! Enjoy a hors d&#39\;oeuvres during the Silent Auction from 5pm- 6:30pm\, before joining the LIVE Auction at 6:30pm. Raffle tickets may be purchased prior to the event\, need not be present to win!<br />\n<br />\nRegister and purchase raffle tickets before the event:&nbsp\;<span style="color:black">onecau.se/fow25&nbsp\;</span><br />\n&nbsp\;
LOCATION:Crowder College Elsie Plaster Community Center 601 Laclede Ave.\, Neosho\, MO
UID:e.2144.18579
SEQUENCE:3
DTSTAMP:20260424T003422Z
URL:https://www.neoshocc.com/events/details/23rd-annual-festival-of-wreaths-benefitting-the-crowder-college-foundation-18579
END:VEVENT

END:VCALENDAR
