BEGIN:VCALENDAR
VERSION:2.0
PRODID:-//ChamberMaster//Event Calendar 2.0//EN
METHOD:PUBLISH
X-PUBLISHED-TTL:P3D
REFRESH-INTERVAL:P3D
CALSCALE:GREGORIAN
BEGIN:VEVENT
DTSTART;VALUE=DATE:20250714
DTEND;VALUE=DATE:20250823
TRANSP:TRANSPARENT
X-MICROSOFT-CDO-ALLDAYEVENT:TRUE
SUMMARY:25-26 Bright Futures Community Day Shirts
DESCRIPTION:Bright Futures Shirts Are Here!  \n\nSupport Neosho Bright Futures and show your Wildcat pride with our 2025 2026 community shirt!\n\nWearing one helps spread awareness and directly supports local students in need.\n\nGreat for:\n\n\n	 Staff\n	 Parents\n	 Community partners\n	 Anyone who loves supporting our Wildcats!\n\n\n Shirts are available in various sizes   check out pricing and how to order here: https://tinyurl.com/bfshirtsignup\n\nLet's come together\, look great\, and support a brighter future!
X-ALT-DESC;FMTTYPE=text/html:<p>&nbsp\;&nbsp\;<strong>Bright Futures Shirts Are Here!</strong>&nbsp\;&nbsp\;</p>\n\n<p>Support Neosho Bright Futures and show your Wildcat pride with our <strong>2025&ndash\;2026 community shirt!</strong><br />\nWearing one helps spread awareness and directly supports local students in need.</p>\n\n<p>Great for:</p>\n\n<ul>\n	<li>&nbsp\;Staff</li>\n	<li>&nbsp\;Parents</li>\n	<li>&nbsp\;Community partners</li>\n	<li>&nbsp\;Anyone who loves supporting our Wildcats!</li>\n</ul>\n\n<p>&nbsp\;Shirts are available in various sizes &mdash\; check out pricing and how to order here:&nbsp\;https://tinyurl.com/bfshirtsignup</p>\n\n<p>Let&rsquo\;s come together\, look great\, and support a brighter future!</p>\n
LOCATION:
UID:e.2144.17541
SEQUENCE:3
DTSTAMP:20260424T043332Z
URL:https://www.neoshocc.com/events/details/25-26-bright-futures-community-day-shirts-17541
END:VEVENT

END:VCALENDAR
