BEGIN:VCALENDAR
VERSION:2.0
PRODID:-//ChamberMaster//Event Calendar 2.0//EN
METHOD:PUBLISH
X-PUBLISHED-TTL:P3D
REFRESH-INTERVAL:P3D
CALSCALE:GREGORIAN
BEGIN:VEVENT
DTSTART:20251004T150000Z
DTEND:20251004T230000Z
X-MICROSOFT-CDO-ALLDAYEVENT:FALSE
SUMMARY:57th Annual Neosho Fall Festival
DESCRIPTION:57th Annual Neosho Fall Festival\n\nJoin us for a day of fun\, creativity\, and community at the annual Neosho Fall Festival! This beloved event takes place on the first Saturday of October in the heart of Historic Downtown Neosho.\n\n \n\nPresented by the City of Neosho\, with support from the Neosho Arts Council\, the Newton County Historical Society\, and many others\, this festival is a celebration of our local arts and crafts.\n\n \n\nDate: Saturday\, October 4th\, 2025\n\nTime:10:00 AM - 6:00 PM\n\nLocation: Historic Downtown Neosho\n\nWebsite: neoshomo.gov/fallfestival\n\n\n\nWhat to Expect:\n\nArtist Alley - Explore unique works from local and regional artists.\n\nHistory Alley - Dive into our local history with displays and activities.\n\nBounce Houses - Fun for the kids and the young at heart!\n\nSidewalk Chalk Art Contest - Show off your artistic talents on the sidewalks of downtown.\n\nFood & Refreshments - Enjoy delicious offerings from local food trucks and vendors.\n\n\n\nAnd that's not all! The square will be buzzing with regional craft vendors\, live music\, family games\, and so much more.\n\n \n\nWhether you're looking to shop for unique handmade goods\, enjoy some great food\, or simply soak in the festive atmosphere\, the Neosho Fall Festival has something for everyone.\n\n \n\nMark your calendars and bring your friends and family for a day of fall fun!
X-ALT-DESC;FMTTYPE=text/html:<div>57th Annual Neosho Fall Festival</div>\n\n<div>Join us for a day of fun\, creativity\, and community at the annual Neosho Fall Festival! This beloved event takes place on the first Saturday of October in the heart of Historic Downtown Neosho.<br />\n&nbsp\;</div>\n\n<div>Presented by the City of Neosho\, with support from the Neosho Arts Council\, the Newton County Historical Society\, and many others\, this festival is a celebration of our local arts and crafts.<br />\n&nbsp\;</div>\n\n<div>Date: Saturday\, October 4th\, 2025<br />\nTime:10:00 AM - 6:00 PM<br />\nLocation: Historic Downtown Neosho<br />\nWebsite:&nbsp\;<a class="x1i10hfl xjbqb8w x1ejq31n x18oe1m7 x1sy0etr xstzfhl x972fbf x10w94by x1qhh985 x14e42zd x9f619 x1ypdohk xt0psk2 xe8uvvx xdj266r x14z9mp xat24cr x1lziwak xexx8yu xyri2b x18d9i69 x1c1uobl x16tdsg8 x1hl2dhg xggy1nq x1a2a7pz xkrqix3 x1sur9pj x1fey0fg x1s688f" href="https://neoshomo.gov/fallfestival?fbclid=IwZXh0bgNhZW0CMTAAYnJpZBExbXVvYURkR0V1YUNwNnFKNgEeZZdgpyh64qyhzAJ9yEUqbicxbFYeaOjJX3bRR2JUBPUNg4s0HAVeBbWeu5k_aem_vQadlDqfZtqDSexiwQNxfw" rel="nofollow noreferrer" style="color: rgb(0\, 100\, 209)\; cursor: pointer\; text-decoration-line: none\; list-style: none\; border-width: 0px\; margin: 0px\; text-align: inherit\; border-style: none\; padding: 0px\; box-sizing: border-box\; background-color: transparent\; outline: none\; -webkit-tap-highlight-color: transparent\; font-weight: 600\; touch-action: manipulation\; display: inline\; font-family: inherit\;" tabindex="0" target="_blank">neoshomo.gov/fallfestival</a></div>\n\n<div><br />\nWhat to Expect:<br />\nArtist Alley - Explore unique works from local and regional artists.<br />\nHistory Alley - Dive into our local history with displays and activities.<br />\nBounce Houses - Fun for the kids and the young at heart!<br />\nSidewalk Chalk Art Contest - Show off your artistic talents on the sidewalks of downtown.<br />\nFood &amp\; Refreshments - Enjoy delicious offerings from local food trucks and vendors.</div>\n\n<div><br />\nAnd that&#39\;s not all! The square will be buzzing with regional craft vendors\, live music\, family games\, and so much more.<br />\n&nbsp\;</div>\n\n<div>Whether you&#39\;re looking to shop for unique handmade goods\, enjoy some great food\, or simply soak in the festive atmosphere\, the Neosho Fall Festival has something for everyone.<br />\n&nbsp\;</div>\n\n<div>Mark your calendars and bring your friends and family for a day of fall fun!</div>\n
LOCATION:Historic Downtown Neosho
UID:e.2144.18365
SEQUENCE:3
DTSTAMP:20260424T015051Z
URL:https://www.neoshocc.com/events/details/57th-annual-neosho-fall-festival-18365
END:VEVENT

END:VCALENDAR
