BEGIN:VCALENDAR
VERSION:2.0
PRODID:-//ChamberMaster//Event Calendar 2.0//EN
METHOD:PUBLISH
X-PUBLISHED-TTL:P3D
REFRESH-INTERVAL:P3D
CALSCALE:GREGORIAN
BEGIN:VEVENT
DTSTART;VALUE=DATE:20261003
DTEND;VALUE=DATE:20261004
TRANSP:TRANSPARENT
X-MICROSOFT-CDO-ALLDAYEVENT:TRUE
SUMMARY:58th Annual Neosho Fall Festival
DESCRIPTION:Neosho Fall Festival   A Community Favorite!   \n\nCrisp air\, colorful leaves\, and small-town charm   it's time for the Neosho Fall Festival! This beloved annual event brings our community together for a full day of family fun\, local shopping\, and festive activities you won't want to miss.\n\nHere's what you can look forward to:\n\n  Craft & Vendor Booths   Shop handmade goods\, unique finds\, and support local businesses.\n\n  Food Vendors   Enjoy all your fall favorites and festival treats.\n\n  Live Entertainment   Music and performances throughout the day to keep the energy going.\n\n  Family-Friendly Activities   Fun for the kids and plenty of ways to make memories together.\n\n  Car Show   Check out classic cars and crowd favorites.\n\n  Seasonal Fun   Embrace all the cozy\, fall vibes with activities and decorations throughout the event.\n\n  Downtown Neosho\n\n  Mark your calendars and make plans to attend!\n\nGrab your friends\, bring the family\, and come experience one of Neosho's favorite traditions. There's just something special about fall in our community!   \n\n#NeoshoMO #FallFestival #SupportLocal #ShopLocal #CommunityStrong
X-ALT-DESC;FMTTYPE=text/html:<p data-end="60" data-start="0">&#127810\;&#127881\; <strong data-end="53" data-start="5">Neosho Fall Festival &mdash\; A Community Favorite!</strong> &#127881\;&#127810\;</p>\n\n<p data-end="311" data-start="62">Crisp air\, colorful leaves\, and small-town charm &mdash\; it&rsquo\;s time for the <strong data-end="155" data-start="131">Neosho Fall Festival</strong>! This beloved annual event brings our community together for a full day of <strong data-end="285" data-start="231">family fun\, local shopping\, and festive activities</strong> you won&rsquo\;t want to miss.</p>\n\n<p data-end="351" data-start="313">Here&rsquo\;s what you can look forward to:</p>\n\n<p data-end="899" data-start="353">&#127809\; <strong data-end="381" data-start="356">Craft &amp\; Vendor Booths</strong> &mdash\; Shop handmade goods\, unique finds\, and support local businesses.<br data-end="451" data-start="448" />\n&#127789\; <strong data-end="470" data-start="454">Food Vendors</strong> &mdash\; Enjoy all your fall favorites and festival treats.<br data-end="526" data-start="523" />\n&#127926\; <strong data-end="551" data-start="529">Live Entertainment</strong> &mdash\; Music and performances throughout the day to keep the energy going.<br data-end="624" data-start="621" />\n&#127875\; <strong data-end="657" data-start="627">Family-Friendly Activities</strong> &mdash\; Fun for the kids and plenty of ways to make memories together.<br data-end="725" data-start="722" />\n&#128663\; <strong data-end="740" data-start="728">Car Show</strong> &mdash\; Check out classic cars and crowd favorites.<br data-end="789" data-start="786" />\n&#128123\; <strong data-end="808" data-start="792">Seasonal Fun</strong> &mdash\; Embrace all the cozy\, fall vibes with activities and decorations throughout the event.</p>\n\n<p data-end="980" data-start="901">&#128205\; <strong data-end="923" data-start="904">Downtown Neosho</strong><br data-end="926" data-start="923" />\n&#128197\; <strong data-end="978" data-start="929">Mark your calendars and make plans to attend!</strong></p>\n\n<p data-end="1142" data-start="982">Grab your friends\, bring the family\, and come experience one of Neosho&rsquo\;s favorite traditions. There&rsquo\;s just something special about fall in our community! &#127809\;&#128155\;</p>\n\n<p data-end="1209" data-is-last-node="" data-is-only-node="" data-start="1144">#NeoshoMO #FallFestival #SupportLocal #ShopLocal #CommunityStrong</p>\n
LOCATION:Historic Downtown Neosho
UID:e.2144.19980
SEQUENCE:3
DTSTAMP:20260423T235122Z
URL:https://www.neoshocc.com/events/details/58th-annual-neosho-fall-festival-19980
END:VEVENT

END:VCALENDAR
