BEGIN:VCALENDAR
VERSION:2.0
PRODID:-//ChamberMaster//Event Calendar 2.0//EN
METHOD:PUBLISH
X-PUBLISHED-TTL:P3D
REFRESH-INTERVAL:P3D
CALSCALE:GREGORIAN
BEGIN:VEVENT
DTSTART:20240413T150000Z
DTEND:20240413T210000Z
X-MICROSOFT-CDO-ALLDAYEVENT:FALSE
SUMMARY:6th Annual Bowl-A-Thon + Street Festival
DESCRIPTION:It's time again for our spring street festival! Join us on Saturday April 13th on North Wood Street in Neosho\, from 10AM to 4PM.\n\nWalk the street to peruse the variety of vendors\, from jewelry & paintings\, to pottery & woodwork. Sit to watch area potters making bowls for a good cause. Enjoy some food from fantastic food trucks. All the while enjoying live music by multiple area artists.\n\nWe can't wait to see you downtown!\n\n...\n\nThe bowls made this day are to be donated to Watered Gardens' 11th Annual Empty Bowls event later this year in September. At that event\, you will be able to purchase one of these locally-crafted bowls. All proceeds from this event will benefit Watered Gardens\, Neosho's Hope Kitchen\, Mission Joplin\, and We Care of the Four States in their efforts to feed those in need.\n\nPre-sales start mid-September. Follow Watered Gardens' Ministries social media for updates.
X-ALT-DESC;FMTTYPE=text/html:<span style="color:rgb(5\, 5\, 5)\; font-family:system-ui\,-apple-system\,system-ui\,.sfnstext-regular\,sans-serif\; font-size:15px">It&#39\;s time again for our spring street festival! Join us on Saturday April 13th on North Wood Street in Neosho\, from 10AM to 4PM.</span><br />\n<span style="color:rgb(5\, 5\, 5)\; font-family:system-ui\,-apple-system\,system-ui\,.sfnstext-regular\,sans-serif\; font-size:15px">Walk the street to peruse the variety of vendors\, from jewelry &amp\; paintings\, to pottery &amp\; woodwork. Sit to watch area potters making bowls for a good cause. Enjoy some food from fantastic food trucks. All the while enjoying live music by multiple area artists.</span><br />\n<span style="color:rgb(5\, 5\, 5)\; font-family:system-ui\,-apple-system\,system-ui\,.sfnstext-regular\,sans-serif\; font-size:15px">We can&#39\;t wait to see you downtown!</span><br />\n<span style="color:rgb(5\, 5\, 5)\; font-family:system-ui\,-apple-system\,system-ui\,.sfnstext-regular\,sans-serif\; font-size:15px">...</span><br />\n<span style="color:rgb(5\, 5\, 5)\; font-family:system-ui\,-apple-system\,system-ui\,.sfnstext-regular\,sans-serif\; font-size:15px">The bowls made this day are to be donated to Watered Gardens&rsquo\; 11th Annual Empty Bowls event later this year in September. At that event\, you will be able to purchase one of these locally-crafted bowls. All proceeds from this event will benefit Watered Gardens\, Neosho&#39\;s Hope Kitchen\, Mission Joplin\, and We Care of the Four States in their efforts to feed those in need.</span><br />\n<span style="color:rgb(5\, 5\, 5)\; font-family:system-ui\,-apple-system\,system-ui\,.sfnstext-regular\,sans-serif\; font-size:15px">Pre-sales start mid-September. Follow Watered Gardens&rsquo\; Ministries social media for updates.</span>
LOCATION:The 100 block of North Wood Street\, in front of The Clay Cup: A Coffee Pottery\, between Spring Street and McCord street.
UID:e.2144.11512
SEQUENCE:3
DTSTAMP:20260425T031750Z
URL:https://www.neoshocc.com/events/details/6th-annual-bowl-a-thon-street-festival-11512
END:VEVENT

END:VCALENDAR
