BEGIN:VCALENDAR
VERSION:2.0
PRODID:-//ChamberMaster//Event Calendar 2.0//EN
METHOD:PUBLISH
X-PUBLISHED-TTL:P3D
REFRESH-INTERVAL:P3D
CALSCALE:GREGORIAN
BEGIN:VEVENT
DTSTART:20221212T120000Z
DTEND:20221216T130000Z
X-MICROSOFT-CDO-ALLDAYEVENT:FALSE
SUMMARY:76th Annual Laymen's League Services
DESCRIPTION:All men in the area are invited to attend the 76th annual Laymen's League Services Monday December 12th thru Friday December 16th at Rocketdyne Church of Christ.\n\n\n\nAll services consist of prayer\, scripture reading\, music and a speaker that talks about what Christmas means to them. This years speakers will be Kyle Bridges followed by Phillip Witt\, Mark Preston\, Tee Helsel\, and Chett Daniel.
X-ALT-DESC;FMTTYPE=text/html:<span style="font-family:calibri\,sans-serif\;"><span style="font-size:11.0pt\;">All men in the area are invited to attend the <strong>76th annual Laymen&rsquo\;s League Services</strong> <strong>Monday December 12<sup>th</sup> thru Friday December 16<sup>th</sup></strong> at Rocketdyne Church of Christ.</span></span><br />\n<br />\nAll services consist of prayer\, scripture reading\, music and a speaker that talks about what Christmas means to them. This years speakers will be Kyle Bridges followed by Phillip Witt\, Mark Preston\, Tee Helsel\, and Chett Daniel.
LOCATION:1111 Rocketdyne Road Neosho\, MO 64850
UID:e.2144.8955
SEQUENCE:3
DTSTAMP:20260426T035207Z
URL:https://www.neoshocc.com/events/details/76th-annual-laymen-s-league-services-8955
END:VEVENT

END:VCALENDAR
