BEGIN:VCALENDAR
VERSION:2.0
PRODID:-//ChamberMaster//Event Calendar 2.0//EN
METHOD:PUBLISH
X-PUBLISHED-TTL:P3D
REFRESH-INTERVAL:P3D
CALSCALE:GREGORIAN
BEGIN:VEVENT
DTSTART:20241102T150000Z
DTEND:20241102T190000Z
X-MICROSOFT-CDO-ALLDAYEVENT:FALSE
SUMMARY:7th Annual Handmade Holiday Market by Neosho's Farmers Market
DESCRIPTION:The 7th Annual Handmade Holiday Market is one day only outdoor event featuring top quality\, handmade artisan style crafts. Our market features a wide variety of craft mediums from various forms of woodworking\, handmade textiles\, glasswork\, locally made pottery\, and much more.\n\nBring a friend and enjoy the day shopping for locally crafted items and connect with the artisan who created them. Food and refreshments will be available.\n\nVendor applications are open now at: https://go.neoshofarmersmarket.com/HHM2024
X-ALT-DESC;FMTTYPE=text/html:<div class="xdj266r x11i5rnm xat24cr x1mh8g0r x1vvkbs" color:="" font-size:="" segoe="" style="margin: 0px\; overflow-wrap: break-word\; font-family: " ui="">The 7th Annual Handmade Holiday Market is one day only outdoor event featuring top quality\, handmade artisan style crafts. Our market features a wide variety of craft mediums from various forms of woodworking\, handmade textiles\, glasswork\, locally made pottery\, and much more.</div>\n\n<div class="x11i5rnm xat24cr x1mh8g0r x1vvkbs xtlvy1s" color:="" font-size:="" segoe="" style="margin: 0.5em 0px 0px\; overflow-wrap: break-word\; font-family: " ui="">Bring a friend and enjoy the day shopping for locally crafted items and connect with the artisan who created them. Food and refreshments will be available.</div>\n\n<div class="x11i5rnm xat24cr x1mh8g0r x1vvkbs xtlvy1s" color:="" font-size:="" segoe="" style="margin: 0.5em 0px 0px\; overflow-wrap: break-word\; font-family: " ui="">Vendor applications are open now at:&nbsp\;<a attributionsrc="/privacy_sandbox/comet/register/source/?xt=AZXHqtsunb33aFgOM3wlC77bDl7Of-DF7xMjLnzYBExtNYD5bQ7RbKMXVDgokx9kOvVUAvN9jHkER2s3WtTtgLwWgnmMbUDzmj2HJwThMNf4lbPDCbgZlJJlB-0si9WMsOkmQqZXCk01IKdCm5k2wCwAt6paREKPykTLeYrL8CScEVEIePWo1C8mG-iXFMQO29vpQFFs3QGs1JYdvy8_a9SLiF4lHvmZZWIOHxeoj-vQp37slAidNJFWvTVl-H9LiOrTv_qTY5jvqkCSjPaRs8aZK_jvmETDruyYKpWTKfuMDXRbQhu74G7gdZE-IjQcdw1WW_vgwny9PJYk-XwQlbFvHcA43KwSmK-216RFkcpl43280GLCFs1Xul4uLLCyOfjmOuc9pwYKnkwtHGxp94P_BJgjJpOdai7P1d-WJGtY6TBsYc242XvaIICH-BhTJgNDMI8H9kWES_6D4ADfu2WvJWZ5TRSw8nf0uw_j13WgkYjzS6zoqTwwbk0gsx_nxJKSzAjOTJDvwrSjsPiwRjL0P0y3H3Ja39WfVpg6HdZW5X34Y-ZU38czDjwjtvck5uqmV_l6Xi8xM-4IjDL6P5jv-b-aRQk8mYoevjOyUcRbjEYGRDwwjRCDd3kAY4dHQHu9kd66TWZGtXnlW51l7_Q7St8zEn0_-Sq7xY1DbK80fM7yUPTv1vMZ-ymnQYXZJMnsYBed_dRZ4tIy-NxWlxFHdeEvZ9jD5MZOjGCK8P2dov5_As8-7NWQ22IqYdXQi74QI1SV7DYeTyYBmx9yiAgypXyB7oZ91xqhJINM2KCMw-nj5_l_yZmawwO8AZAjqfs" class="x1i10hfl xjbqb8w x1ejq31n xd10rxx x1sy0etr x17r0tee x972fbf xcfux6l x1qhh985 xm0m39n x9f619 x1ypdohk xt0psk2 xe8uvvx xdj266r x11i5rnm xat24cr x1mh8g0r xexx8yu x4uap5 x18d9i69 xkhd6sd x16tdsg8 x1hl2dhg xggy1nq x1a2a7pz x1sur9pj xkrqix3 x1fey0fg" href="https://go.neoshofarmersmarket.com/HHM2024" rel="nofollow" role="link" style="color: var(--blue-link)\; cursor: pointer\; list-style: none\; margin: 0px\; text-align: inherit\; border-style: none\; padding: 0px\; box-sizing: border-box\; border-width: 0px\; outline: none\; -webkit-tap-highlight-color: transparent\; touch-action: manipulation\; background-color: transparent\; display: inline\; font-family: inherit\;" tabindex="0" target="_blank">https://go.neoshofarmersmarket.com/HHM2024</a></div>\n
LOCATION:201 W Spring St\, Neosho\, MO 64850-1761\, United States
UID:e.2144.13736
SEQUENCE:3
DTSTAMP:20260424T174006Z
URL:https://www.neoshocc.com/events/details/7th-annual-handmade-holiday-market-by-neosho-s-farmers-market-13736
END:VEVENT

END:VCALENDAR
