BEGIN:VCALENDAR
VERSION:2.0
PRODID:-//ChamberMaster//Event Calendar 2.0//EN
METHOD:PUBLISH
X-PUBLISHED-TTL:P3D
REFRESH-INTERVAL:P3D
CALSCALE:GREGORIAN
BEGIN:VEVENT
DTSTART:20251213T233000Z
DTEND:20251214T003000Z
X-MICROSOFT-CDO-ALLDAYEVENT:FALSE
SUMMARY:90th Birthday of the Neosho Newton County Library's Seneca Branch
DESCRIPTION:The Neosho Newton County Library is celebrating the 90th BIRTHDAY of our Seneca Branch!! & we want you to join the party before the Seneca Christmas Parade! ???? Come celebrate 90 years of stories and service with us. Bonus: birthday cake is included????
X-ALT-DESC;FMTTYPE=text/html:The Neosho Newton County Library is celebrating the 90th BIRTHDAY of our Seneca Branch!! &amp\; we want you to join the party before the Seneca Christmas Parade! ???? Come celebrate 90 years of stories and service with us. Bonus: birthday cake is included????
LOCATION:1216 Cherokee St Seneca\, MO 64865
UID:e.2144.18822
SEQUENCE:3
DTSTAMP:20260423T225021Z
URL:https://www.neoshocc.com/events/details/90th-birthday-of-the-neosho-newton-county-library-s-seneca-branch-18822
END:VEVENT

END:VCALENDAR
