BEGIN:VCALENDAR
VERSION:2.0
PRODID:-//ChamberMaster//Event Calendar 2.0//EN
METHOD:PUBLISH
X-PUBLISHED-TTL:P3D
REFRESH-INTERVAL:P3D
CALSCALE:GREGORIAN
BEGIN:VEVENT
DTSTART:20241222T010000Z
DTEND:20241222T030000Z
X-MICROSOFT-CDO-ALLDAYEVENT:FALSE
SUMMARY:A Big Band Christmas
DESCRIPTION:Christmas music with a Big Band beat! Tulsa Praise Orchestra returns to the Coleman stage for an energetic evening of holiday favorites with their own unique twists. Just the experience you need to whisk you through the holidays with a smile on your face and a tap in your feet.
X-ALT-DESC;FMTTYPE=text/html:Christmas music with a Big Band beat! Tulsa Praise Orchestra returns to the Coleman stage for an energetic evening of holiday favorites with their own unique twists. Just the experience you need to whisk you through the holidays with a smile on your face and a tap in your feet.
LOCATION:Coleman Theatre Miami\, Ok
UID:e.2144.14163
SEQUENCE:3
DTSTAMP:20260424T161011Z
URL:https://www.neoshocc.com/events/details/a-big-band-christmas-14163
END:VEVENT

END:VCALENDAR
