BEGIN:VCALENDAR
VERSION:2.0
PRODID:-//ChamberMaster//Event Calendar 2.0//EN
METHOD:PUBLISH
X-PUBLISHED-TTL:P3D
REFRESH-INTERVAL:P3D
CALSCALE:GREGORIAN
BEGIN:VEVENT
DTSTART:20231209T010000Z
DTEND:20231210T010000Z
X-MICROSOFT-CDO-ALLDAYEVENT:FALSE
SUMMARY:A Holiday Gift to the Community presented by Crowder College Theatre
DESCRIPTION:Crowder College Theatre will present A Holiday Gift to the Community: A Collection of Student Acting Projects and Short Plays (PG) December 8 - 9 at 7pm nightly in the Elsie Plaster Blackbox Theatre (601 Laclede Ave.\, Neosho\, MO 64850).\n\n\n\nThere is no cost to this event except donation of canned goods to the Crowder Pantry. Please call the box office at 417-455-5678 or email FineArtAssistant@crowder.edu to reserve your spot.\n\n\n\nDirected by Annie Smith\, Crowder College Theatre Director
X-ALT-DESC;FMTTYPE=text/html:<p><span style="font-size:14px"><span style="font-family:arial\,helvetica\,sans-serif">Crowder College Theatre will present&nbsp\;<em>A Holiday Gift to the Community: A Collection of Student Acting Projects and Short Plays (PG)&nbsp\;</em>December 8 - 9 at 7pm nightly in the Elsie Plaster Blackbox Theatre (601 Laclede Ave.\, Neosho\, MO 64850).<br />\n<br />\n<span style="background-color:rgb(237\, 237\, 237)\; color:rgb(77\, 77\, 77)">There is no cost to this event except donation of canned goods to the Crowder Pantry. Please call the box office at 417-455-5678 or email <a href="mailto:FineArtAssistant@crowder.edu?subject=Theatre%20Reservation">FineArtAssistant@crowder.edu</a> to reserve your spot.</span><br />\n<br />\nDirected by Annie Smith\, Crowder College Theatre Director</span></span></p>\n
LOCATION:Blackbox Theatre\, Elsie Plaster Community Center Crowder College\, 601 Laclede Ave.\, Neosho\, MO 64850
UID:e.2144.11076
SEQUENCE:3
DTSTAMP:20260425T104608Z
URL:https://www.neoshocc.com/events/details/a-holiday-gift-to-the-community-presented-by-crowder-college-theatre-11076
END:VEVENT

END:VCALENDAR
