BEGIN:VCALENDAR
VERSION:2.0
PRODID:-//ChamberMaster//Event Calendar 2.0//EN
METHOD:PUBLISH
X-PUBLISHED-TTL:P3D
REFRESH-INTERVAL:P3D
CALSCALE:GREGORIAN
BEGIN:VEVENT
DTSTART:20241213T010000Z
DTEND:20241213T030000Z
X-MICROSOFT-CDO-ALLDAYEVENT:FALSE
SUMMARY:A Jazzy Little Christmas with Ernie Haase & Signature Sound
DESCRIPTION:A Jazzy Little Christmas with Ernie Haase & Signature Sound\n\nDecember 12\, 2024 7:00 PM  9:00 PM\nJoin the Neosho Area Habitat for Humanity as they welcome back Ernie Haase and Signature Sound on December 12th for an evening of jazzy holiday classics. Enjoy an evening of bold brass and swirling strings paired with enchanting harmonies! Experience a classic and magical Christmas concert with the classics coming to Neosho! All to support the work of Neosho Area Habitat for Humanity.
X-ALT-DESC;FMTTYPE=text/html:<h1>A Jazzy Little Christmas with Ernie Haase &amp\; Signature Sound</h1>\n\n<h2>December 12\, 2024 7:00 PM &ndash\;9:00 PM</h2>\nJoin the Neosho Area Habitat for Humanity as they welcome back Ernie Haase and Signature Sound on December 12th for an evening of jazzy holiday classics. Enjoy an evening of bold brass and swirling strings paired with enchanting harmonies! Experience a classic and magical Christmas concert with the classics coming to Neosho! All to support the work of Neosho Area Habitat for Humanity.
LOCATION:Freeman Performing Arts Center Neosho High School 511 S. Neosho Blvd. Neosho\, MO 64850
UID:e.2144.13728
SEQUENCE:3
DTSTAMP:20260424T162015Z
URL:https://www.neoshocc.com/events/details/a-jazzy-little-christmas-with-ernie-haase-signature-sound-13728
END:VEVENT

END:VCALENDAR
