BEGIN:VCALENDAR
VERSION:2.0
PRODID:-//ChamberMaster//Event Calendar 2.0//EN
METHOD:PUBLISH
X-PUBLISHED-TTL:P3D
REFRESH-INTERVAL:P3D
CALSCALE:GREGORIAN
BEGIN:VEVENT
DTSTART:20230625T000000Z
DTEND:20230625T020000Z
X-MICROSOFT-CDO-ALLDAYEVENT:FALSE
SUMMARY:A'lante Flamenco
DESCRIPTION:Connect2Culture presents A'lante Flamenco on Saturday\, June 24\, 7:00pm at the Harry M. Cornell Arts & Entertainment Complex! With thundering footwork\, chattering castanets\, soaring vocals\, and blazing guitars\, A'lante Flamenco presents flamenco music and dance in new and exciting ways.
X-ALT-DESC;FMTTYPE=text/html:Connect2Culture presents A&rsquo\;lante Flamenco on Saturday\, June 24\, 7:00pm at the Harry M. Cornell Arts &amp\; Entertainment Complex! With thundering footwork\, chattering castanets\, soaring vocals\, and blazing guitars\, A&rsquo\;lante Flamenco presents flamenco music and dance in new and exciting ways.
LOCATION:Harry M. Cornell Arts & Entertainment Complex located at 212 West 7th Street\, Joplin\, MO 64801
UID:e.2144.9911
SEQUENCE:3
DTSTAMP:20260425T184800Z
URL:https://www.neoshocc.com/events/details/a-lante-flamenco-9911
END:VEVENT

END:VCALENDAR
