BEGIN:VCALENDAR
VERSION:2.0
PRODID:-//ChamberMaster//Event Calendar 2.0//EN
METHOD:PUBLISH
X-PUBLISHED-TTL:P3D
REFRESH-INTERVAL:P3D
CALSCALE:GREGORIAN
BEGIN:VEVENT
DTSTART:20231210T010000Z
DTEND:20231210T030000Z
X-MICROSOFT-CDO-ALLDAYEVENT:FALSE
SUMMARY:A Night of Christmas with John Glosson
DESCRIPTION:Celebrate the most wonderful time of the year with John Glosson! A soulful\, Southern vocalist\, music has been a central part of Glosson's life since childhood. From singing at church and performing in Liberty University's premier traveling music group to appearing on American Idol and Duets\, Glosson has continually performed spirit-lifting music for audiences across the nation. With his heartfelt interpretations of the season's most beloved songs\, A Night of Christmas with John Glosson is sure to make this Christmas season merry and bright!
X-ALT-DESC;FMTTYPE=text/html:Celebrate the most wonderful time of the year with John Glosson! A soulful\, Southern vocalist\, music has been a central part of Glosson&rsquo\;s life since childhood. From singing at church and performing in Liberty University&rsquo\;s premier traveling music group to appearing on American Idol and Duets\, Glosson has continually performed spirit-lifting music for audiences across the nation. With his heartfelt interpretations of the season&rsquo\;s most beloved songs\, A Night of Christmas with John Glosson is sure to make this Christmas season merry and bright!
LOCATION:Harry M. Cornell Arts & Entertainment Complex located at 212 West 7th St. Joplin\, MO 64801
UID:e.2144.10791
SEQUENCE:3
DTSTAMP:20260425T104444Z
URL:https://www.neoshocc.com/events/details/a-night-of-christmas-with-john-glosson-10791
END:VEVENT

END:VCALENDAR
