BEGIN:VCALENDAR
VERSION:2.0
PRODID:-//ChamberMaster//Event Calendar 2.0//EN
METHOD:PUBLISH
X-PUBLISHED-TTL:P3D
REFRESH-INTERVAL:P3D
CALSCALE:GREGORIAN
BEGIN:VEVENT
DTSTART:20251109T210000Z
DTEND:20251109T223000Z
X-MICROSOFT-CDO-ALLDAYEVENT:FALSE
SUMMARY:A Salute to Veterans Concert
DESCRIPTION:Join us in honoring our veterans with our third annual "A Salute to Veterans" concert! Sunday\, November 9th at 3:00 PM at the Joplin High School Performing Arts Center. This free concert features the 135th Army Band out of Springfield\, MO with a wide range of musical selections honoring the brave men and women of the United States Armed Forces. Thanks to our sponsors Dawson Heritage Foundation\, Pinocchio School of Dance\, Joplin Elks Lodge\, and Gold and Silver of Joplin!
X-ALT-DESC;FMTTYPE=text/html:Join us in honoring our veterans with our third annual &quot\;A Salute to Veterans&quot\; concert! Sunday\, November 9th at 3:00 PM at the Joplin High School Performing Arts Center. This free concert features the 135th Army Band out of Springfield\, MO with a wide range of musical selections honoring the brave men and women of the United States Armed Forces. Thanks to our sponsors Dawson Heritage Foundation\, Pinocchio School of Dance\, Joplin Elks Lodge\, and Gold and Silver of Joplin!
LOCATION:Joplin High School Performing Arts Center - 2104 S Indiana Ave. Joplin\, MO
UID:e.2144.18549
SEQUENCE:3
DTSTAMP:20260424T014319Z
URL:https://www.neoshocc.com/events/details/a-salute-to-veterans-concert-18549
END:VEVENT

END:VCALENDAR
