BEGIN:VCALENDAR
VERSION:2.0
PRODID:-//ChamberMaster//Event Calendar 2.0//EN
METHOD:PUBLISH
X-PUBLISHED-TTL:P3D
REFRESH-INTERVAL:P3D
CALSCALE:GREGORIAN
BEGIN:VEVENT
DTSTART:20230909T200000Z
DTEND:20230910T000000Z
X-MICROSOFT-CDO-ALLDAYEVENT:FALSE
SUMMARY:A Taste of Southwest Missouri
DESCRIPTION:The 2nd Annual "A Taste of Southwest Missouri" will be an outdoor event to help bring awareness to Southwest\, MO about some local area businesses. We love local and want to show our communities that there is a lot to offer in our southwest corner of Missouri when it comes to great drinks and mouthwatering foods. The event will be held rain or shine.\n\nFee of $5 to get armband for tasting any alcohol & ALL proceeds for the arm bands will go to Faithful Friends who cares for many displaced pets.\n\nOur guests planning to be here to share with you all at this time is Pennington Wines of Carthage\, MO\, Tall Pines Distillery of Pineville\, MO\, Track 94 Brewery of Seneca\, MO\, Angel's Taco Bus of Neosho\, MO\, Wolfe's Wings & Things\, Granby. MO\, Maximum Impressions of Carthage\, MO\, Copperhead Ridge Creations\, Neosho\, MO.\n\nWe will continue to add updated vendors as they join in with us.
X-ALT-DESC;FMTTYPE=text/html:<div>The 2nd Annual &quot\;A Taste of Southwest Missouri&quot\; will be an outdoor event to help bring awareness to Southwest\, MO about some local area businesses. We love local and want to show our communities that there is a lot to offer in our southwest corner of Missouri when it comes to great drinks and mouthwatering foods. The event will be held rain or shine.</div>\n\n<div>Fee of $5 to get armband for tasting any alcohol &amp\; ALL proceeds for the arm bands will go to Faithful Friends who cares for many displaced pets.</div>\n\n<div>Our guests planning to be here to share with you all at this time is Pennington Wines of Carthage\, MO\, Tall Pines Distillery of Pineville\, MO\, Track 94 Brewery of Seneca\, MO\, Angel&#39\;s Taco Bus of Neosho\, MO\, Wolfe&#39\;s Wings &amp\; Things\, Granby. MO\, Maximum Impressions of Carthage\, MO\, Copperhead Ridge Creations\, Neosho\, MO.</div>\n\n<div>We will continue to add updated vendors as they join in with us.&nbsp\;</div>\n
LOCATION:1013 South Neosho Boulevard Neosho\, MO 64850
UID:e.2144.10765
SEQUENCE:3
DTSTAMP:20260425T154459Z
URL:https://www.neoshocc.com/events/details/a-taste-of-southwest-missouri-10765
END:VEVENT

END:VCALENDAR
