BEGIN:VCALENDAR
VERSION:2.0
PRODID:-//ChamberMaster//Event Calendar 2.0//EN
METHOD:PUBLISH
X-PUBLISHED-TTL:P3D
REFRESH-INTERVAL:P3D
CALSCALE:GREGORIAN
BEGIN:VEVENT
DTSTART:20250322T230000Z
DTEND:20250323T020000Z
X-MICROSOFT-CDO-ALLDAYEVENT:FALSE
SUMMARY:Adam McCabe Live Music At Eastside Social
DESCRIPTION:Adam McCabe singing live at Eastside Social. From county to pop to rock its going to be a great night. March 22nd 6pm to 9pm
X-ALT-DESC;FMTTYPE=text/html:Adam McCabe singing live at Eastside Social. From county to pop to rock its going to be a great night. March 22nd 6pm to 9pm&nbsp\;
LOCATION:Eastside Social 113 S Washington St Neosho
UID:e.2144.14952
SEQUENCE:3
DTSTAMP:20260424T120937Z
URL:https://www.neoshocc.com/events/details/adam-mccabe-live-music-at-eastside-social-03-22-2025-14952
END:VEVENT

END:VCALENDAR
