BEGIN:VCALENDAR
VERSION:2.0
PRODID:-//ChamberMaster//Event Calendar 2.0//EN
METHOD:PUBLISH
X-PUBLISHED-TTL:P3D
REFRESH-INTERVAL:P3D
CALSCALE:GREGORIAN
BEGIN:VEVENT
DTSTART:20240622T000000Z
DTEND:20240622T030000Z
X-MICROSOFT-CDO-ALLDAYEVENT:FALSE
SUMMARY:Adam McCabe Live Music At Eastside Social
DESCRIPTION:Adam McCabe will be performing live on Eastside Social's patio June 21st from 7pm to 10pm
X-ALT-DESC;FMTTYPE=text/html:Adam McCabe will be performing live on Eastside Social&#39\;s patio June 21st from 7pm to 10pm&nbsp\;
LOCATION:Eastside Social 113 S Washington St. Neosho\, Mo
UID:e.2144.12172
SEQUENCE:3
DTSTAMP:20260425T020614Z
URL:https://www.neoshocc.com/events/details/adam-mccabe-live-music-at-eastside-social-12172
END:VEVENT

END:VCALENDAR
