BEGIN:VCALENDAR
VERSION:2.0
PRODID:-//ChamberMaster//Event Calendar 2.0//EN
METHOD:PUBLISH
X-PUBLISHED-TTL:P3D
REFRESH-INTERVAL:P3D
CALSCALE:GREGORIAN
BEGIN:VEVENT
DTSTART:20260105T193000Z
DTEND:20260106T033000Z
X-MICROSOFT-CDO-ALLDAYEVENT:FALSE
SUMMARY:Adult Craft Day
DESCRIPTION:Adult Craft Day!! at the Neosho Newton County Library!\n\n\n\nJoin us for a little snowman craft! Make sure to register on our website calendar to reserve your spot. Act quick-there are only 25 seats available per session!\n\n\n\nSee y'all then!!
X-ALT-DESC;FMTTYPE=text/html:<div>\n<p>Adult Craft Day!! at the Neosho Newton County Library!<br />\n<br />\nJoin us for a little snowman craft! Make sure to register on our website calendar to reserve your spot. Act quick-there are only 25 seats available per session!<br />\n<br />\nSee y&#39\;all then!!</p>\n</div>\n
LOCATION:201 W Spring St Neosho\, MO 64843
UID:e.2144.18829
SEQUENCE:3
DTSTAMP:20260423T210732Z
URL:https://www.neoshocc.com/events/details/adult-craft-day-01-05-2026-18829
END:VEVENT

END:VCALENDAR
