BEGIN:VCALENDAR
VERSION:2.0
PRODID:-//ChamberMaster//Event Calendar 2.0//EN
METHOD:PUBLISH
X-PUBLISHED-TTL:P3D
REFRESH-INTERVAL:P3D
CALSCALE:GREGORIAN
BEGIN:VEVENT
DTSTART:20250721T180000Z
DTEND:20250721T200000Z
X-MICROSOFT-CDO-ALLDAYEVENT:FALSE
SUMMARY:Adult Craft Night\, Assorted Wooden Signs Craft
DESCRIPTION:We will decorate wooden signs with assorted wooden boxes.\n\nYou MUST be 18 and older.\n\n2 separate sessions\, afternoon 1:00 PM to 3:00 PM\, evening 5:00 PM to 7:00 PM\n\nYou must preregister on our website calendar limited seating.
X-ALT-DESC;FMTTYPE=text/html:We will decorate wooden signs with assorted wooden boxes.<br />\nYou MUST be 18 and older.<br />\n2 separate sessions\, afternoon 1:00 PM to 3:00 PM\, evening 5:00 PM to 7:00 PM<br />\nYou must preregister on our website calendar&mdash\;limited seating.
LOCATION:Neosho Newton County Library 201 West Spring Street Neosho MO 64850
UID:e.2144.16628
SEQUENCE:3
DTSTAMP:20260424T061029Z
URL:https://www.neoshocc.com/events/details/adult-craft-night-assorted-wooden-signs-craft-16628
END:VEVENT

END:VCALENDAR
