BEGIN:VCALENDAR
VERSION:2.0
PRODID:-//ChamberMaster//Event Calendar 2.0//EN
METHOD:PUBLISH
X-PUBLISHED-TTL:P3D
REFRESH-INTERVAL:P3D
CALSCALE:GREGORIAN
BEGIN:VEVENT
DTSTART:20250616T180000Z
DTEND:20250616T200000Z
X-MICROSOFT-CDO-ALLDAYEVENT:FALSE
SUMMARY:Adult Program\, memory wire bracelets
DESCRIPTION:Memory wire bracelets\, do your style\, you must register on our website calendar. If you need help registering\, call Miss Pam or Miss Rana at 417-451-4231 x103 or 113
X-ALT-DESC;FMTTYPE=text/html:Memory wire bracelets\, do your style\, you must register on our website calendar. If you need help registering\, call Miss Pam or Miss Rana at 417-451-4231 x103 or 113
LOCATION:Neosho Newton County Library 201 West Spring Street Neosho MO 64850
UID:e.2144.16627
SEQUENCE:3
DTSTAMP:20260424T073548Z
URL:https://www.neoshocc.com/events/details/adult-program-memory-wire-bracelets-16627
END:VEVENT

END:VCALENDAR
