BEGIN:VCALENDAR
VERSION:2.0
PRODID:-//ChamberMaster//Event Calendar 2.0//EN
METHOD:PUBLISH
X-PUBLISHED-TTL:P3D
REFRESH-INTERVAL:P3D
CALSCALE:GREGORIAN
BEGIN:VEVENT
DTSTART:20230118T000000Z
DTEND:20230118T013000Z
X-MICROSOFT-CDO-ALLDAYEVENT:FALSE
SUMMARY:Adventure to Italy Trip Presentation & Wine Tasting from Tuscany
DESCRIPTION:The Neosho Area Chamber of Commerce & Galaxsea Cruises & Tours are excited to announce their upcoming Adventure to Italy with Lauri & Wendy.  Join us Tuesday\, January 17th for a trip presentation to learn all the details about the destinations we will be visiting.  Following the trip presentation\, there will be a Wine Tasting from Tuscany.
X-ALT-DESC;FMTTYPE=text/html:The Neosho Area Chamber of Commerce &amp\; Galaxsea Cruises &amp\; Tours are excited to announce their upcoming Adventure to Italy with Lauri &amp\; Wendy.&nbsp\; Join us Tuesday\, January 17th for a trip presentation to learn all the details about the destinations we will be visiting.&nbsp\; Following the trip presentation\, there will be a Wine Tasting from Tuscany.&nbsp\; &nbsp\;
LOCATION:Neosho Auditorium 109 West Main Neosho\, MO
UID:e.2144.8974
SEQUENCE:3
DTSTAMP:20260426T021658Z
URL:https://www.neoshocc.com/events/details/adventure-to-italy-trip-presentation-wine-tasting-from-tuscany-8974
END:VEVENT

END:VCALENDAR
