BEGIN:VCALENDAR
VERSION:2.0
PRODID:-//ChamberMaster//Event Calendar 2.0//EN
METHOD:PUBLISH
X-PUBLISHED-TTL:P3D
REFRESH-INTERVAL:P3D
CALSCALE:GREGORIAN
BEGIN:VEVENT
DTSTART:20260208T190000Z
DTEND:20260208T200000Z
X-MICROSOFT-CDO-ALLDAYEVENT:FALSE
SUMMARY:AFRICAN AMERICAN TRAILBLAZERS
DESCRIPTION:Explore the pioneering achievements of African American trailblazers with this ranger-led program
X-ALT-DESC;FMTTYPE=text/html:Explore the pioneering achievements of African American trailblazers with this ranger-led program
LOCATION:George Washington Carver NM 5646 Carver Rd. Diamond MO 64840
UID:e.2144.18859
SEQUENCE:3
DTSTAMP:20260423T193602Z
URL:https://www.neoshocc.com/events/details/african-american-trailblazers-02-08-2026-18859
END:VEVENT

END:VCALENDAR
