BEGIN:VCALENDAR
VERSION:2.0
PRODID:-//ChamberMaster//Event Calendar 2.0//EN
METHOD:PUBLISH
X-PUBLISHED-TTL:P3D
REFRESH-INTERVAL:P3D
CALSCALE:GREGORIAN
BEGIN:VEVENT
DTSTART:20230910T190000Z
DTEND:20230910T220000Z
X-MICROSOFT-CDO-ALLDAYEVENT:FALSE
SUMMARY:All Dogs Dream Fall Carnival
DESCRIPTION:Bring your furry friend to the All Dogs Dream Fall Carnival on September 10th from 2pm - 5pm. We'll have food\, games\, and activities for everyone to do with their dogs. We'll also have A Dog's Dream Adoption team set up to give more information on available pets as well as a donation bake sale. \n\nAll pets must have proof of vaccinations. Our required vaccinations are Rabies\, Parvo\, and Bordetella. This is a free event for the family and pets to come enjoy together.
X-ALT-DESC;FMTTYPE=text/html:Bring your furry friend to the All Dogs Dream Fall Carnival on September 10th from 2pm - 5pm. We&#39\;ll have food\, games\, and activities for everyone to do with their dogs. We&#39\;ll also have A Dog&#39\;s Dream Adoption team set up to give more information on available pets as well as a donation bake sale.&nbsp\;<br />\nAll pets must have proof of vaccinations. Our required vaccinations are Rabies\, Parvo\, and Bordetella. This is a free event for the family and pets to come enjoy together.&nbsp\;
LOCATION:All Dogs Dream 12651 Gateway Dr. Neosho\, MO 64850
UID:e.2144.10763
SEQUENCE:3
DTSTAMP:20260425T140746Z
URL:https://www.neoshocc.com/events/details/all-dogs-dream-fall-carnival-10763
END:VEVENT

END:VCALENDAR
