BEGIN:VCALENDAR
VERSION:2.0
PRODID:-//ChamberMaster//Event Calendar 2.0//EN
METHOD:PUBLISH
X-PUBLISHED-TTL:P3D
REFRESH-INTERVAL:P3D
CALSCALE:GREGORIAN
BEGIN:VEVENT
DTSTART;VALUE=DATE:20221216
DTEND;VALUE=DATE:20221219
TRANSP:TRANSPARENT
X-MICROSOFT-CDO-ALLDAYEVENT:TRUE
SUMMARY:Amahl and the Night Visitors
DESCRIPTION:Heartland Opera Theatre Presents:\n\n\n\nAmahl and the Night Visitors by Gian Carlo Menotti\n\nPerformed in English with English supertitles\n\nFree to the Public
X-ALT-DESC;FMTTYPE=text/html:Heartland Opera Theatre Presents:<br />\n<br />\nAmahl and the Night Visitors by Gian Carlo Menotti<br />\nPerformed in English with English supertitles<br />\nFree to the Public
LOCATION:Heartland Opera Theatre
UID:e.2144.8961
SEQUENCE:3
DTSTAMP:20260426T035316Z
URL:https://www.neoshocc.com/events/details/amahl-and-the-night-visitors-8961
END:VEVENT

END:VCALENDAR
