BEGIN:VCALENDAR
VERSION:2.0
PRODID:-//ChamberMaster//Event Calendar 2.0//EN
METHOD:PUBLISH
X-PUBLISHED-TTL:P3D
REFRESH-INTERVAL:P3D
CALSCALE:GREGORIAN
BEGIN:VEVENT
DTSTART:20240914T000000Z
DTEND:20240914T030000Z
X-MICROSOFT-CDO-ALLDAYEVENT:FALSE
SUMMARY:An Evening in the Gallery: Wine and Food Pairing Night
DESCRIPTION:Join us for a night of food and wine at the gallery!\n\n\n\nAndrew will be walking you through each wine for the full tasting experience\, while Nikki is crafting the perfect foods to go with each wine to wake up all your taste buds.\n\n\n\nTickets for sale online\, at the gallery\, or call 417-312-8025 during shop hours or leave a message. Limited spots available.
X-ALT-DESC;FMTTYPE=text/html:<div>Join us for a night of food and wine at the gallery!</div>\n\n<div><br />\nAndrew will be walking you through each wine for the full tasting experience\, while Nikki is crafting the perfect foods to go with each wine to wake up all your taste buds.</div>\n\n<div><br />\nTickets for sale online\, at the gallery\, or call 417-312-8025 during shop hours or leave a message. Limited spots available.</div>\n
LOCATION:Nighthawk Gallery 102 E Spring St Neosho\, MO 64850
UID:e.2144.13075
SEQUENCE:3
DTSTAMP:20260424T203746Z
URL:https://www.neoshocc.com/events/details/an-evening-in-the-gallery-wine-and-food-pairing-night-13075
END:VEVENT

END:VCALENDAR
