BEGIN:VCALENDAR
VERSION:2.0
PRODID:-//ChamberMaster//Event Calendar 2.0//EN
METHOD:PUBLISH
X-PUBLISHED-TTL:P3D
REFRESH-INTERVAL:P3D
CALSCALE:GREGORIAN
BEGIN:VEVENT
DTSTART:20251121T233000Z
DTEND:20251122T030000Z
X-MICROSOFT-CDO-ALLDAYEVENT:FALSE
SUMMARY:Annual Chamber Banquet 2025
DESCRIPTION:2025 Annual Chamber Banquet   Decades Prom\n\nPresented by Freeman Health System\n\n  Date\n\nFriday\, November 21\, 2025\n\n  Schedule\n\n  Cocktails | 5:30 PM\n\n  Dinner | 7:00 PM\n\n  Program | 7:30 PM\n\n  Afterparty to follow!\n\n  Location\n\nDownstream Casino Resort\n\n  Tickets\n\n  Premier Table (10 seats): $1\,000\n\n  Individual Ticket: $80\n\nTickets are limited. Cancellations less than 1 week before and no-shows are responsible for payment. Any substitutions or changes to the attendee list should be made by Friday\, November 14\, 2025.\n\n  Dress in your decade's prom style and join us for an unforgettable evening of food\, fun\, and celebration!
X-ALT-DESC;FMTTYPE=text/html:<p data-end="204" data-start="119"><span style="font-size:14px\;"><span style="font-family:arial\;"><strong data-end="165" data-start="119">2025 Annual Chamber Banquet &ndash\; Decades Prom</strong><br data-end="168" data-start="165" />\nPresented by Freeman Health System</span></span></p>\n\n<p data-end="247" data-start="206"><span style="font-size:14px\;"><span style="font-family:arial\;">&#128197\; <strong data-end="217" data-start="209">Date</strong><br data-end="220" data-start="217" />\nFriday\, November 21\, 2025</span></span></p>\n\n<p data-end="376" data-start="249"><span style="font-size:14px\;"><span style="font-family:arial\;">&#128340\; <strong data-end="264" data-start="252">Schedule</strong><br data-end="267" data-start="264" />\n&bull\; Cocktails | 5:30 PM<br data-end="308" data-start="305" />\n&bull\; Dinner | 7:00 PM<br data-end="329" data-start="326" />\n&bull\; Program | 7:30 PM<br data-end="351" data-start="348" />\n&bull\; Afterparty to follow!</span></span></p>\n\n<p data-end="422" data-start="378"><span style="font-size:14px\;"><span style="font-family:arial\;">&#128205\; <strong data-end="393" data-start="381">Location</strong><br data-end="396" data-start="393" />\nDownstream Casino Resort</span></span></p>\n\n<p data-end="504" data-start="424"><span style="font-size:14px\;"><span style="font-family:arial\;">&#127903\; <strong data-end="438" data-start="427">Tickets</strong><br data-end="441" data-start="438" />\n&bull\; Premier Table (10 seats): $1\,000<br data-end="478" data-start="475" />\n&bull\; Individual Ticket: $80</span></span></p>\n\n<p data-end="705" data-start="506"><span style="font-size:14px\;"><span style="font-family:arial\;"><em data-end="703" data-start="506">Tickets are limited. Cancellations less than 1 week before and no-shows are responsible for payment. Any substitutions or changes to the attendee list should be made by Friday\, November 14\, 2025.</em></span></span></p>\n\n<p data-end="826" data-start="707"><span style="font-size:14px\;"><span style="font-family:arial\;">&#128087\; Dress in your decade&rsquo\;s prom style and join us for an unforgettable evening of food\, fun\, and celebration!</span></span></p>\n
LOCATION:Downstream Casino Resort
UID:e.2144.16658
SEQUENCE:3
DTSTAMP:20260424T003003Z
URL:https://www.neoshocc.com/events/details/annual-chamber-banquet-2025-16658
END:VEVENT

END:VCALENDAR
